Felt | Verdi |
AlreadyApplied | True |
Aperture | 8.0 |
ApertureValue | 8.0 |
ApproximateFocusDistance | 4.61 |
AutoLateralCA | 0 |
BitsPerSample | 8 |
Blacks2012 | +20 |
BlueHue | 0 |
BlueSaturation | 0 |
CameraProfile | Adobe Standard |
CircleOfConfusion | 0.029 mm |
Clarity2012 | +31 |
ColorComponents | 3 |
ColorNoiseReduction | 25 |
ColorNoiseReductionDetail | 50 |
ColorNoiseReductionSmoothness | 50 |
ColorSpace | sRGB |
ColorTemperature | 14475 |
ColorTransform | YCbCr |
Contrast2012 | 0 |
ConvertToGrayscale | False |
CreateDate (1) | 2018:03:14 19:04:36.70 |
CreateDate | 2018:03:14 19:04:36 |
CreatorTool | Adobe Photoshop Lightroom Classic 7.2 (Macintosh) |
CropAngle | -1.18855 |
CropBottom | 0.960591 |
CropConstrainToWarp | 0 |
CropLeft | 0.012301 |
CropRight | 0.987545 |
CropTop | 0.039409 |
CustomRendered | Normal |
DateCreated (1) | 2018:03:14 |
DateCreated | 2018:03:14 19:04:36.70 |
DateTimeOriginal | 2018:03:14 19:04:36 |
DefringeGreenAmount | 0 |
DefringeGreenHueHi | 60 |
DefringeGreenHueLo | 40 |
DefringePurpleAmount | 0 |
DefringePurpleHueHi | 70 |
DefringePurpleHueLo | 30 |
Dehaze | 0 |
DOF | inf (1.63 m - inf) |
Exposure2012 | +0.45 |
ExposureCompensation | 0 |
ExposureMode | Manual |
ExposureProgram | Manual |
ExposureTime | 1/250 |
Firmware | 1.0.1 |
Flash | Off, Did not fire |
FlashCompensation | 0 |
FNumber | 8.0 |
FocalLength | 24.0 mm |
FocalLength35efl | 24.0 mm (35 mm equivalent: 25.0 mm) |
Format | image/jpeg |
FOV | 71.4 deg |
GrainAmount | 0 |
GreenHue | 0 |
GreenSaturation | 0 |
HasCrop | True |
HasExtendedXMP | E53165B1726C60B5C4F8A8CAB82E33CE |
HasSettings | True |
Highlights2012 | -100 |
HueAdjustmentAqua | 0 |
HueAdjustmentBlue | 0 |
HueAdjustmentGreen | 0 |
HueAdjustmentMagenta | -100 |
HueAdjustmentOrange | -25 |
HueAdjustmentPurple | 0 |
HueAdjustmentRed | +100 |
HueAdjustmentYellow | -73 |
HyperfocalDistance | 2.50 m |
ImageHeight | 4262 |
ImageNumber | 0 |
ImageSize | 6467x4262 |
ImageWidth | 6467 |
ISO | 320 |
Lens | 24-70mm F2.8 DG OS HSM | Art 017 |
LensID (1) | 495 |
LensID | Sigma 24-70mm f/2.8 DG OS HSM | A |
LensInfo | 24-70mm f/? |
LensManualDistortionAmount | 0 |
LensModel | 24-70mm F2.8 DG OS HSM | Art 017 |
LensProfileEnable | 0 |
LensProfileSetup | LensDefaults |
LensSerialNumber | 0000000000 |
LightValue | 12.3 |
LuminanceAdjustmentAqua | 0 |
LuminanceAdjustmentBlue | 0 |
LuminanceAdjustmentGreen | 0 |
LuminanceAdjustmentMagenta | -100 |
LuminanceAdjustmentOrange | -1 |
LuminanceAdjustmentPurple | +3 |
LuminanceAdjustmentRed | 0 |
LuminanceAdjustmentYellow | 0 |
LuminanceSmoothing | 0 |
Make | Canon |
MaxApertureValue | 2.8 |
Megapixels | 27.6 |
MeteringMode | Multi-segment |
Model | Canon EOS 5D Mark IV |
ModifyDate (1) | 2018:03:22 19:32:10+01:00 |
ModifyDate | 2018:03:22 19:32:10 |
PaintCorrectionActive | true |
PaintCorrectionAmount | 1.000000 |
PaintCorrectionBrightness | 0.000000 |
PaintCorrectionClarity2012 (22) | 0.516232 |
PaintCorrectionClarity2012 (28) | 0.550288 |
PaintCorrectionClarity2012 (30) | -0.678626 |
PaintCorrectionClarity2012 (31) | 1.000000 |
PaintCorrectionClarity2012 (6) | 0.421534 |
PaintCorrectionClarity2012 | 0.000000 |
PaintCorrectionContrast2012 (12) | 0.014980 |
PaintCorrectionContrast2012 (13) | 0.410801 |
PaintCorrectionContrast2012 (15) | 1.000000 |
PaintCorrectionContrast2012 (16) | 0.324939 |
PaintCorrectionContrast2012 (19) | 0.722694 |
PaintCorrectionContrast2012 (23) | 0.831804 |
PaintCorrectionContrast2012 (26) | 0.105507 |
PaintCorrectionContrast2012 (28) | 0.669031 |
PaintCorrectionContrast2012 (31) | 0.160346 |
PaintCorrectionContrast2012 (33) | 0.949143 |
PaintCorrectionContrast2012 (5) | 0.250000 |
PaintCorrectionContrast2012 | 0.000000 |
PaintCorrectionCorrectionRangeMaskColorAmount | 0.500000 |
PaintCorrectionCorrectionRangeMaskLumFeather | 0.500000 |
PaintCorrectionCorrectionRangeMaskLumMax | 1.000000 |
PaintCorrectionCorrectionRangeMaskLumMin | 0.000000 |
PaintCorrectionCorrectionRangeMaskType | 0 |
PaintCorrectionCorrectionRangeMaskVersion | +2 |
PaintCorrectionDefringe | 0.000000 |
PaintCorrectionExposure2012 (6) | 0.079604 |
PaintCorrectionExposure2012 | 0.000000 |
PaintCorrectionHighlights2012 (21) | -1.000000 |
PaintCorrectionHighlights2012 | 0.000000 |
PaintCorrectionHue | 240.000000 |
PaintCorrectionLocalBlacks2012 | 0.000000 |
PaintCorrectionLocalDehaze | 0.000000 |
PaintCorrectionLocalWhites2012 (16) | -1.000000 |
PaintCorrectionLocalWhites2012 (33) | -0.731000 |
PaintCorrectionLocalWhites2012 (35) | -0.158525 |
PaintCorrectionLocalWhites2012 (6) | 1.000000 |
PaintCorrectionLocalWhites2012 | 0.000000 |
PaintCorrectionLuminanceNoise (25) | 0.000000 |
PaintCorrectionLuminanceNoise | 0.265777 |
PaintCorrectionMaskCenterWeight | 0.000000 |
PaintCorrectionMaskFlow (37) | 1.000000 |
PaintCorrectionMaskFlow | 0.693581 |
PaintCorrectionMaskRadius (1) | 0.168105 |
PaintCorrectionMaskRadius (101) | 0.101486 |
PaintCorrectionMaskRadius (116) | 0.029848 |
PaintCorrectionMaskRadius (131) | 0.018222 |
PaintCorrectionMaskRadius (141) | 0.007027 |
PaintCorrectionMaskRadius (151) | 0.108644 |
PaintCorrectionMaskRadius (159) | 0.080656 |
PaintCorrectionMaskRadius (164) | 0.035822 |
PaintCorrectionMaskRadius (172) | 0.048094 |
PaintCorrectionMaskRadius (19) | 0.037226 |
PaintCorrectionMaskRadius (197) | 0.146051 |
PaintCorrectionMaskRadius (208) | 0.023981 |
PaintCorrectionMaskRadius (209) | 0.060796 |
PaintCorrectionMaskRadius (21) | 0.031018 |
PaintCorrectionMaskRadius (228) | 0.054391 |
PaintCorrectionMaskRadius (245) | 0.123284 |
PaintCorrectionMaskRadius (266) | 0.012571 |
PaintCorrectionMaskRadius (277) | 0.073929 |
PaintCorrectionMaskRadius (28) | 0.105462 |
PaintCorrectionMaskRadius (288) | 0.067308 |
PaintCorrectionMaskRadius (34) | 0.049978 |
PaintCorrectionMaskRadius (43) | 0.090920 |
PaintCorrectionMaskRadius (5) | 0.135889 |
PaintCorrectionMaskRadius (54) | 0.043546 |
PaintCorrectionMaskRadius (58) | 0.018936 |
PaintCorrectionMaskRadius (70) | 0.120452 |
PaintCorrectionMaskRadius (80) | 0.069731 |
PaintCorrectionMaskRadius (81) | 0.024845 |
PaintCorrectionMaskRadius (84) | 0.127721 |
PaintCorrectionMaskRadius (88) | 0.049825 |
PaintCorrectionMaskRadius (9) | 0.056522 |
PaintCorrectionMaskRadius (90) | 0.135472 |
PaintCorrectionMaskRadius | 0.041904 |
PaintCorrectionMaskValue (5) | 1.000000 |
PaintCorrectionMaskValue | 0.780705 |
PaintCorrectionMaskWhat | Mask/Paint |
PaintCorrectionMoire | 0.000000 |
PaintCorrectionSaturation (11) | 0.183783 |
PaintCorrectionSaturation | 0.000000 |
PaintCorrectionShadows2012 (10) | -1.000000 |
PaintCorrectionShadows2012 (11) | 0.646769 |
PaintCorrectionShadows2012 (2) | 0.206462 |
PaintCorrectionShadows2012 (21) | 1.000000 |
PaintCorrectionShadows2012 (27) | 0.000000 |
PaintCorrectionShadows2012 (3) | 0.474970 |
PaintCorrectionShadows2012 (4) | 0.236802 |
PaintCorrectionShadows2012 | -0.433973 |
PaintCorrectionSharpness (6) | 0.250000 |
PaintCorrectionSharpness | 0.000000 |
PaintCorrectionTemperature (19) | 0.608313 |
PaintCorrectionTemperature (20) | -0.448005 |
PaintCorrectionTemperature (8) | 0.651813 |
PaintCorrectionTemperature (9) | 0.771390 |
PaintCorrectionTemperature | 0.000000 |
PaintCorrectionTint | 0.000000 |
PaintCorrectionWhat | Correction |
ParametricDarks | -21 |
ParametricHighlights | +100 |
ParametricHighlightSplit | 75 |
ParametricLights | +100 |
ParametricMidtoneSplit | 50 |
ParametricShadows | +49 |
ParametricShadowSplit | 25 |
PerspectiveAspect | 0 |
PerspectiveHorizontal | 0 |
PerspectiveRotate | 0.0 |
PerspectiveScale | 100 |
PerspectiveUpright | 0 |
PerspectiveVertical | 0 |
PerspectiveX | 0.00 |
PerspectiveY | 0.00 |
PostCropVignetteAmount | -12 |
PostCropVignetteFeather | 50 |
PostCropVignetteHighlightContrast | 0 |
PostCropVignetteMidpoint | 50 |
PostCropVignetteRoundness | 0 |
PostCropVignetteStyle | 1 |
ProcessVersion | 10.0 |
ProfileDescription | sRGB IEC61966-2.1 |
RecommendedExposureIndex | 320 |
RedHue | 0 |
RedSaturation | 0 |
Saturation | +3 |
SaturationAdjustmentAqua | 0 |
SaturationAdjustmentBlue | 0 |
SaturationAdjustmentGreen | 0 |
SaturationAdjustmentMagenta | -100 |
SaturationAdjustmentOrange | +38 |
SaturationAdjustmentPurple | 0 |
SaturationAdjustmentRed | -1 |
SaturationAdjustmentYellow | +100 |
ScaleFactor35efl | 1.0 |
SceneCaptureType | Standard |
SensitivityType | Recommended Exposure Index |
SerialNumber | 013021001917 |
Shadows2012 | +54 |
ShadowTint | 0 |
SharpenDetail | 25 |
SharpenEdgeMasking | 0 |
SharpenRadius | +1.0 |
Sharpness | 42 |
ShutterSpeed | 1/250 |
ShutterSpeedValue | 1/250 |
Software | Adobe Photoshop Lightroom Classic 7.2 (Macintosh) |
SplitToningBalance | 0 |
SplitToningHighlightHue | 0 |
SplitToningHighlightSaturation | 0 |
SplitToningShadowHue | 0 |
SplitToningShadowSaturation | 0 |
Tint | +20 |
ToneCurve | 0, 0, 255, 255 |
ToneCurveBlue | 0, 0, 255, 255 |
ToneCurveGreen | 0, 0, 255, 255 |
ToneCurveName | Linear |
ToneCurveName2012 | Linear |
ToneCurvePV2012 | 0, 0, 255, 255 |
ToneCurvePV2012Blue | 0, 0, 255, 255 |
ToneCurvePV2012Green | 0, 0, 255, 255 |
ToneCurvePV2012Red | 0, 0, 255, 255 |
ToneCurveRed | 0, 0, 255, 255 |
Version | 10.2 |
Vibrance | +16 |
VignetteAmount | 0 |
WhiteBalance (1) | Custom |
WhiteBalance | Auto |
Whites2012 | 0 |