Felt | Verdi |
AlreadyApplied | True |
Aperture | 4.0 |
ApertureValue | 4.0 |
ApproximateFocusDistance | 4294967295 |
Artist | Darius Lygnugaris |
AutoLateralCA | 1 |
AutoWhiteVersion | 134348800 |
BitsPerSample | 8 |
Blacks2012 | -40 |
BlueHue | 0 |
BlueSaturation | -10 |
By-line | Darius Lygnugaris |
CameraProfile | Camera ASTIA/SOFT |
CircGradBasedCorrActive | true |
CircGradBasedCorrAmount | 1.000000 |
CircGradBasedCorrBrightness | 0.000000 |
CircGradBasedCorrClarity2012 | 0.000000 |
CircGradBasedCorrContrast2012 | 0.000000 |
CircGradBasedCorrDefringe | 0.000000 |
CircGradBasedCorrExposure2012 (10) | -0.127000 |
CircGradBasedCorrExposure2012 (11) | 0.031750 |
CircGradBasedCorrExposure2012 (13) | -0.079250 |
CircGradBasedCorrExposure2012 (16) | 0.015750 |
CircGradBasedCorrExposure2012 (17) | -0.031750 |
CircGradBasedCorrExposure2012 (2) | 0.095250 |
CircGradBasedCorrExposure2012 | 0.000000 |
CircGradBasedCorrHighlights2012 (1) | 0.714290 |
CircGradBasedCorrHighlights2012 (15) | -0.095240 |
CircGradBasedCorrHighlights2012 (17) | -0.142860 |
CircGradBasedCorrHighlights2012 (6) | -0.841270 |
CircGradBasedCorrHighlights2012 (8) | 0.365080 |
CircGradBasedCorrHighlights2012 | 0.000000 |
CircGradBasedCorrHue | 0.000000 |
CircGradBasedCorrLocalBlacks2012 | 0.000000 |
CircGradBasedCorrLocalDehaze | 0.000000 |
CircGradBasedCorrLocalWhites2012 | 0.000000 |
CircGradBasedCorrLuminanceNoise | 0.000000 |
CircGradBasedCorrMaskAngle | 0.000000 |
CircGradBasedCorrMaskBottom (1) | 0.884679 |
CircGradBasedCorrMaskBottom (10) | 0.230215 |
CircGradBasedCorrMaskBottom (11) | 0.443225 |
CircGradBasedCorrMaskBottom (12) | 0.555903 |
CircGradBasedCorrMaskBottom (13) | 0.622276 |
CircGradBasedCorrMaskBottom (14) | 0.758109 |
CircGradBasedCorrMaskBottom (15) | 0.691736 |
CircGradBasedCorrMaskBottom (16) | 0.843004 |
CircGradBasedCorrMaskBottom (17) | 0.598088 |
CircGradBasedCorrMaskBottom (2) | 0.859983 |
CircGradBasedCorrMaskBottom (3) | 0.815220 |
CircGradBasedCorrMaskBottom (4) | 0.640799 |
CircGradBasedCorrMaskBottom (5) | 0.688649 |
CircGradBasedCorrMaskBottom (6) | 0.656234 |
CircGradBasedCorrMaskBottom (7) | 0.548186 |
CircGradBasedCorrMaskBottom (8) | 0.851902 |
CircGradBasedCorrMaskBottom (9) | 0.869445 |
CircGradBasedCorrMaskBottom | 0.876962 |
CircGradBasedCorrMaskFeather | +50 |
CircGradBasedCorrMaskFlipped | true |
CircGradBasedCorrMaskLeft (1) | 0.407497 |
CircGradBasedCorrMaskLeft (10) | 0.070931 |
CircGradBasedCorrMaskLeft (11) | 0.729654 |
CircGradBasedCorrMaskLeft (12) | -0.198734 |
CircGradBasedCorrMaskLeft (13) | 0.274724 |
CircGradBasedCorrMaskLeft (14) | 0.413673 |
CircGradBasedCorrMaskLeft (15) | 0.045200 |
CircGradBasedCorrMaskLeft (16) | 0.387942 |
CircGradBasedCorrMaskLeft (17) | 0.443962 |
CircGradBasedCorrMaskLeft (2) | 0.308689 |
CircGradBasedCorrMaskLeft (3) | 0.501160 |
CircGradBasedCorrMaskLeft (4) | 0.831551 |
CircGradBasedCorrMaskLeft (5) | 0.674075 |
CircGradBasedCorrMaskLeft (6) | 0.853165 |
CircGradBasedCorrMaskLeft (7) | 0.227378 |
CircGradBasedCorrMaskLeft (8) | 0.473932 |
CircGradBasedCorrMaskLeft (9) | 0.447251 |
CircGradBasedCorrMaskLeft | 0.327216 |
CircGradBasedCorrMaskMidpoint | +50 |
CircGradBasedCorrMaskRight (10) | 0.787292 |
CircGradBasedCorrMaskRight (11) | 1.067250 |
CircGradBasedCorrMaskRight (12) | 0.159447 |
CircGradBasedCorrMaskRight (13) | 0.435287 |
CircGradBasedCorrMaskRight (14) | 0.526891 |
CircGradBasedCorrMaskRight (15) | 0.446609 |
CircGradBasedCorrMaskRight (16) | 0.554681 |
CircGradBasedCorrMaskRight (17) | 0.498785 |
CircGradBasedCorrMaskRight (2) | 0.681279 |
CircGradBasedCorrMaskRight (3) | 0.694660 |
CircGradBasedCorrMaskRight (4) | 0.911833 |
CircGradBasedCorrMaskRight (5) | 0.859340 |
CircGradBasedCorrMaskRight (6) | 0.912862 |
CircGradBasedCorrMaskRight (7) | 0.521745 |
CircGradBasedCorrMaskRight (8) | 0.497689 |
CircGradBasedCorrMaskRight (9) | 0.472104 |
CircGradBasedCorrMaskRight | 0.607173 |
CircGradBasedCorrMaskRoundness | 0 |
CircGradBasedCorrMaskTop (1) | 0.699454 |
CircGradBasedCorrMaskTop (10) | -0.198891 |
CircGradBasedCorrMaskTop (11) | -0.041450 |
CircGradBasedCorrMaskTop (12) | -0.024471 |
CircGradBasedCorrMaskTop (13) | 0.486444 |
CircGradBasedCorrMaskTop (14) | 0.511141 |
CircGradBasedCorrMaskTop (15) | 0.426245 |
CircGradBasedCorrMaskTop (16) | 0.469465 |
CircGradBasedCorrMaskTop (17) | 0.511473 |
CircGradBasedCorrMaskTop (3) | 0.645430 |
CircGradBasedCorrMaskTop (4) | 0.538925 |
CircGradBasedCorrMaskTop (5) | 0.531207 |
CircGradBasedCorrMaskTop (6) | 0.498792 |
CircGradBasedCorrMaskTop (7) | 0.415440 |
CircGradBasedCorrMaskTop (8) | 0.735136 |
CircGradBasedCorrMaskTop (9) | 0.730751 |
CircGradBasedCorrMaskTop | 0.753478 |
CircGradBasedCorrMaskValue | 1.000000 |
CircGradBasedCorrMaskVersion | +2 |
CircGradBasedCorrMaskWhat | Mask/CircularGradient |
CircGradBasedCorrMoire | 0.000000 |
CircGradBasedCorrSaturation | 0.000000 |
CircGradBasedCorrShadows2012 (1) | 0.174600 |
CircGradBasedCorrShadows2012 (16) | 0.079370 |
CircGradBasedCorrShadows2012 (3) | -0.190480 |
CircGradBasedCorrShadows2012 (5) | 0.222220 |
CircGradBasedCorrShadows2012 (7) | 0.000000 |
CircGradBasedCorrShadows2012 | 0.126980 |
CircGradBasedCorrSharpness | 0.000000 |
CircGradBasedCorrTemperature | 0.000000 |
CircGradBasedCorrTint | 0.000000 |
CircGradBasedCorrWhat | Correction |
CircleOfConfusion | 0.026 mm |
Clarity2012 | -25 |
ColorComponents | 3 |
ColorMode | RGB |
ColorNoiseReduction | 80 |
ColorNoiseReductionDetail | 50 |
ColorNoiseReductionSmoothness | 50 |
ColorSpace | sRGB |
ColorTemperature | 4950 |
ColorTransform | YCbCr |
Contrast2012 | +40 |
ConvertToGrayscale | True |
Copyright | All Rights Reserved |
CopyrightNotice | All Rights Reserved |
CreateDate (1) | 2019:03:02 10:57:15.00 |
CreateDate | 2019:03:02 10:57:15 |
Creator | Darius Lygnugaris |
CreatorTool | Adobe Photoshop Lightroom 6.14 (Windows) |
CropAngle | 0 |
CropBottom | 0.924812 |
CropConstrainToWarp | 0 |
CropLeft | 0.022556 |
CropRight | 0.909774 |
CropTop | 0.078947 |
CustomRendered | Normal |
DateCreated | 2019:03:02 |
DateTimeDigitized | 2019:03:02 10:57:15+01:00 |
DateTimeOriginal (1) | 2019:03:02 10:57:15+01:00 |
DateTimeOriginal | 2019:03:02 10:57:15 |
Dehaze | -4 |
DOF | inf (11.65 m - inf) |
ExifImageHeight | 3086 |
ExifImageWidth | 4855 |
Exposure2012 | 0.00 |
ExposureCompensation | 0 |
ExposureMode | Auto |
ExposureProgram | Aperture-priority AE |
ExposureTime | 1/160 |
Firmware | 1.1.6 |
Flash | Off, Did not fire |
FlashCompensation | 0 |
FlashFired | False |
FlashFunction | False |
FlashMode | Off |
FlashRedEyeMode | False |
FlashReturn | No return detection |
FNumber | 4.0 |
FocalLength | 35.0 mm |
FocalLength35efl | 35.0 mm (35 mm equivalent: 40.0 mm) |
Format | image/jpeg |
FOV | 48.4 deg |
GrainAmount | 8 |
GrainFrequency | 70 |
GrainSize | 30 |
GrayMixerAqua | 0 |
GrayMixerBlue | 0 |
GrayMixerGreen | 0 |
GrayMixerMagenta | 0 |
GrayMixerOrange | +30 |
GrayMixerPurple | 0 |
GrayMixerRed | -20 |
GrayMixerYellow | +40 |
GreenHue | 0 |
GreenSaturation | 0 |
HasCrop | True |
HasSettings | True |
Highlights2012 | -30 |
HyperfocalDistance | 11.65 m |
ICCProfileName | sRGB IEC61966-2.1 |
ImageHeight | 3086 |
ImageNumber | 0 |
ImageSize | 4855x3086 |
ImageWidth | 4855 |
ISO | 200 |
LateralChromaticAberrationCorrectionAlreadyApplied | True |
Lens | EF16-35mm f/4L IS USM |
LensID (1) | 507 |
LensID | Canon EF 16-35mm f/4L IS USM |
LensInfo | 16-35mm f/? |
LensManualDistortionAmount | 0 |
LensModel | EF16-35mm f/4L IS USM |
LensProfileEnable | 0 |
LensProfileSetup | LensDefaults |
LensSerialNumber | 2910003050 |
LightValue | 10.3 |
LuminanceNoiseReductionContrast | 0 |
LuminanceNoiseReductionDetail | 50 |
LuminanceSmoothing | 25 |
Make | Canon |
MaxApertureValue | 4.0 |
Megapixels | 15.0 |
MeteringMode | Multi-segment |
Model | Canon EOS 6D |
ModifyDate (1) | 2019:03:03 14:57:13+01:00 |
ModifyDate | 2019:03:03 14:57:13 |
Orientation | Horizontal (normal) |
ParametricDarks | 0 |
ParametricHighlights | 0 |
ParametricHighlightSplit | 75 |
ParametricLights | 0 |
ParametricMidtoneSplit | 50 |
ParametricShadows | 0 |
ParametricShadowSplit | 25 |
PerspectiveAspect | 0 |
PerspectiveHorizontal | 0 |
PerspectiveRotate | 0.0 |
PerspectiveScale | 100 |
PerspectiveUpright | 0 |
PerspectiveVertical | 0 |
PerspectiveX | 0.00 |
PerspectiveY | 0.00 |
PostCropVignetteAmount | 0 |
ProcessVersion | 6.7 |
ProfileDescription | sRGB IEC61966-2.1 |
RecommendedExposureIndex | 200 |
RedHue | +10 |
RedSaturation | -10 |
Rights | All Rights Reserved |
ScaleFactor35efl | 1.1 |
SceneCaptureType | Standard |
SensitivityType | Recommended Exposure Index |
SerialNumber | 423052004382 |
Shadows2012 | +11 |
ShadowTint | -10 |
SharpenDetail | 25 |
SharpenEdgeMasking | 0 |
SharpenRadius | +1.0 |
Sharpness | 38 |
ShutterSpeed | 1/160 |
ShutterSpeedValue | 1/160 |
Software | Adobe Photoshop CS4 Windows |
SplitToningBalance | 0 |
SplitToningHighlightHue | 0 |
SplitToningHighlightSaturation | 0 |
SplitToningShadowHue | 0 |
SplitToningShadowSaturation | 0 |
Tint | +8 |
ToneCurve | 0, 0, 255, 255 |
ToneCurveBlue | 0, 0, 255, 255 |
ToneCurveGreen | 0, 0, 255, 255 |
ToneCurveName | Linear |
ToneCurveName2012 | Agfa Scala ++ |
ToneCurvePV2012 | 0, 21, 37, 33, 99, 99, 226, 238, 255, 251 |
ToneCurvePV2012Blue | 0, 0, 255, 255 |
ToneCurvePV2012Green | 0, 0, 255, 255 |
ToneCurvePV2012Red | 0, 0, 255, 255 |
ToneCurveRed | 0, 0, 255, 255 |
ToneMapStrength | 0 |
URL_List | |
Version | 10.1 |
VignetteAmount | 0 |
WhiteBalance (1) | As Shot |
WhiteBalance | Manual |
Whites2012 | +48 |