Felt | Verdi |
AlreadyApplied | True |
Aperture | 5.6 |
ApertureValue | 5.6 |
ApproximateFocusDistance | 19.1 |
Artist | Darius Lygnugaris |
AutoLateralCA | 1 |
AutoWhiteVersion | 134348800 |
BitsPerSample | 8 |
Blacks2012 | +25 |
BlueHue | 0 |
BlueSaturation | 0 |
By-line | Darius Lygnugaris |
CameraProfile | Fuji 160C 2C |
CircGradBasedCorrActive | true |
CircGradBasedCorrAmount | 1.000000 |
CircGradBasedCorrBrightness | 0.000000 |
CircGradBasedCorrClarity2012 | 0.000000 |
CircGradBasedCorrContrast2012 | 0.000000 |
CircGradBasedCorrDefringe | 0.000000 |
CircGradBasedCorrExposure2012 (4) | 0.063500 |
CircGradBasedCorrExposure2012 | 0.000000 |
CircGradBasedCorrHighlights2012 | 0.000000 |
CircGradBasedCorrHue | 0.000000 |
CircGradBasedCorrLocalBlacks2012 | 0.000000 |
CircGradBasedCorrLocalDehaze | 0.000000 |
CircGradBasedCorrLocalWhites2012 | 0.000000 |
CircGradBasedCorrLuminanceNoise | 0.000000 |
CircGradBasedCorrMaskAngle | 0.000000 |
CircGradBasedCorrMaskBottom (1) | 0.773820 |
CircGradBasedCorrMaskBottom (2) | 0.831487 |
CircGradBasedCorrMaskBottom (3) | 0.871024 |
CircGradBasedCorrMaskBottom (4) | 0.800212 |
CircGradBasedCorrMaskBottom | 0.728674 |
CircGradBasedCorrMaskFeather | +50 |
CircGradBasedCorrMaskFlipped | true |
CircGradBasedCorrMaskLeft (1) | 0.441644 |
CircGradBasedCorrMaskLeft (2) | -0.048850 |
CircGradBasedCorrMaskLeft (3) | 0.137619 |
CircGradBasedCorrMaskLeft (4) | -0.149509 |
CircGradBasedCorrMaskLeft | 0.241227 |
CircGradBasedCorrMaskMidpoint | +50 |
CircGradBasedCorrMaskRight (1) | 1.104320 |
CircGradBasedCorrMaskRight (2) | 0.195910 |
CircGradBasedCorrMaskRight (3) | 0.348214 |
CircGradBasedCorrMaskRight (4) | 1.090880 |
CircGradBasedCorrMaskRight | 0.453561 |
CircGradBasedCorrMaskRoundness | 0 |
CircGradBasedCorrMaskTop (1) | 0.255956 |
CircGradBasedCorrMaskTop (2) | 0.453957 |
CircGradBasedCorrMaskTop (3) | 0.460365 |
CircGradBasedCorrMaskTop (4) | 0.356721 |
CircGradBasedCorrMaskTop | 0.261540 |
CircGradBasedCorrMaskValue | 1.000000 |
CircGradBasedCorrMaskVersion | +2 |
CircGradBasedCorrMaskWhat | Mask/CircularGradient |
CircGradBasedCorrMoire | 0.000000 |
CircGradBasedCorrSaturation | 0.000000 |
CircGradBasedCorrShadows2012 (1) | 0.317460 |
CircGradBasedCorrShadows2012 (2) | 0.301590 |
CircGradBasedCorrShadows2012 (3) | 0.142860 |
CircGradBasedCorrShadows2012 (4) | 0.000000 |
CircGradBasedCorrShadows2012 | -0.158730 |
CircGradBasedCorrSharpness | 0.000000 |
CircGradBasedCorrTemperature | 0.000000 |
CircGradBasedCorrTint | 0.000000 |
CircGradBasedCorrWhat | Correction |
CircleOfConfusion | 0.012 mm |
Clarity2012 | 0 |
ColorComponents | 3 |
ColorMode | RGB |
ColorNoiseReduction | 69 |
ColorNoiseReductionDetail | 50 |
ColorNoiseReductionSmoothness | 50 |
ColorSpace | sRGB |
ColorTemperature | 6150 |
ColorTransform | YCbCr |
Contrast2012 | +11 |
ConvertToGrayscale | False |
Copyright | All Rights Reserved |
CopyrightNotice | All Rights Reserved |
CreateDate (1) | 2019:01:26 15:19:36.00 |
CreateDate | 2019:01:26 15:19:36 |
Creator | Darius Lygnugaris |
CreatorTool | Adobe Photoshop Lightroom 6.14 (Windows) |
CropAngle | 0 |
CropBottom | 0.985461 |
CropConstrainToWarp | 1 |
CropLeft | 0.014539 |
CropRight | 0.985427 |
CropTop | 0.014573 |
CustomRendered | Normal |
DateCreated | 2019:01:26 |
DateTimeDigitized | 2019:01:26 15:19:36+01:00 |
DateTimeOriginal (1) | 2019:01:26 15:19:36+01:00 |
DateTimeOriginal | 2019:01:26 15:19:36 |
DefringeGreenAmount | 0 |
DefringeGreenHueHi | 60 |
DefringeGreenHueLo | 40 |
DefringePurpleAmount | 0 |
DefringePurpleHueHi | 70 |
DefringePurpleHueLo | 30 |
Dehaze | 0 |
DistortionCorrectionAlreadyApplied | True |
DOF | 10.22 m (15.27 - 25.49 m) |
ExifImageHeight | 1400 |
ExifImageWidth | 2100 |
Exposure2012 | +0.20 |
ExposureCompensation | +2/3 |
ExposureMode | Auto |
ExposureProgram | Aperture-priority AE |
ExposureTime | 1/250 |
Firmware | 1.1.6 |
Flash | Off, Did not fire |
FlashCompensation | 0 |
FlashFired | False |
FlashFunction | False |
FlashMode | Off |
FlashRedEyeMode | False |
FlashReturn | No return detection |
FNumber | 5.6 |
FocalLength | 70.0 mm |
FocalLength35efl | 70.0 mm (35 mm equivalent: 182.4 mm) |
Format | image/jpeg |
FOV | 11.3 deg |
GradientBasedCorrActive | true |
GradientBasedCorrAmount | 1.000000 |
GradientBasedCorrBrightness | 0.000000 |
GradientBasedCorrClarity2012 | 0.000000 |
GradientBasedCorrContrast2012 | 0.000000 |
GradientBasedCorrDefringe | 0.000000 |
GradientBasedCorrExposure2012 (1) | 0.000000 |
GradientBasedCorrExposure2012 (2) | 0.047500 |
GradientBasedCorrExposure2012 | -0.031750 |
GradientBasedCorrHighlights2012 | 0.000000 |
GradientBasedCorrHue | 0.000000 |
GradientBasedCorrLocalBlacks2012 | 0.000000 |
GradientBasedCorrLocalDehaze | 0.000000 |
GradientBasedCorrLocalWhites2012 | 0.000000 |
GradientBasedCorrLuminanceNoise | 0.000000 |
GradientBasedCorrMaskFullX (1) | 0.564485 |
GradientBasedCorrMaskFullX (2) | 0.459990 |
GradientBasedCorrMaskFullX | 0.548067 |
GradientBasedCorrMaskFullY (1) | 0.868463 |
GradientBasedCorrMaskFullY (2) | 0.737800 |
GradientBasedCorrMaskFullY | 0.848538 |
GradientBasedCorrMaskValue | 1.000000 |
GradientBasedCorrMaskWhat | Mask/Gradient |
GradientBasedCorrMaskZeroX (1) | 0.556982 |
GradientBasedCorrMaskZeroX (2) | 0.464416 |
GradientBasedCorrMaskZeroX | 0.541539 |
GradientBasedCorrMaskZeroY (1) | 0.651019 |
GradientBasedCorrMaskZeroY (2) | 0.826217 |
GradientBasedCorrMaskZeroY | 0.708850 |
GradientBasedCorrMoire | 0.000000 |
GradientBasedCorrSaturation | 0.000000 |
GradientBasedCorrShadows2012 (1) | -0.587300 |
GradientBasedCorrShadows2012 | 0.000000 |
GradientBasedCorrSharpness | 0.000000 |
GradientBasedCorrTemperature | 0.000000 |
GradientBasedCorrTint | 0.000000 |
GradientBasedCorrWhat | Correction |
GrainAmount | 0 |
GreenHue | 0 |
GreenSaturation | 0 |
HasCrop | True |
HasSettings | True |
Highlights2012 | -10 |
HueAdjustmentAqua | +20 |
HueAdjustmentBlue | 0 |
HueAdjustmentGreen | +8 |
HueAdjustmentMagenta | +30 |
HueAdjustmentOrange | +5 |
HueAdjustmentPurple | +10 |
HueAdjustmentRed | +5 |
HueAdjustmentYellow | +15 |
HyperfocalDistance | 75.88 m |
ICCProfileName | sRGB IEC61966-2.1 |
ImageHeight | 1400 |
ImageNumber | 0 |
ImageSize | 2100x1400 |
ImageWidth | 2100 |
ISO | 400 |
LateralChromaticAberrationCorrectionAlreadyApplied | True |
Lens | EF70-200mm f/4L USM |
LensID (1) | 186 |
LensID | Canon EF 70-200mm f/4L USM |
LensInfo | 70-200mm f/? |
LensManualDistortionAmount | 0 |
LensModel | EF70-200mm f/4L USM |
LensProfileChromaticAberrationScale | 100 |
LensProfileDistortionScale | 100 |
LensProfileEnable | 1 |
LensProfileFilename | Canon EOS 5D Mark II (Canon EF 70-200mm f4L USM) - RAW.lcp |
LensProfileName | Adobe (Canon EF 70-200mm f/4 L USM) |
LensProfileSetup | LensDefaults |
LensProfileVignettingScale | 100 |
LensSerialNumber | 0000000000 |
LightValue | 10.9 |
LuminanceAdjustmentAqua | +10 |
LuminanceAdjustmentBlue | -20 |
LuminanceAdjustmentGreen | +10 |
LuminanceAdjustmentMagenta | 0 |
LuminanceAdjustmentOrange | -5 |
LuminanceAdjustmentPurple | -15 |
LuminanceAdjustmentRed | 0 |
LuminanceAdjustmentYellow | +5 |
LuminanceSmoothing | 0 |
Make | Canon |
MaxApertureValue | 4.0 |
Megapixels | 2.9 |
MeteringMode | Multi-segment |
Model | Canon EOS 6D |
ModifyDate (1) | 2019:03:07 20:09:16+01:00 |
ModifyDate | 2019:03:07 20:09:16 |
Orientation | Horizontal (normal) |
ParametricDarks | 0 |
ParametricHighlights | 0 |
ParametricHighlightSplit | 75 |
ParametricLights | 0 |
ParametricMidtoneSplit | 50 |
ParametricShadows | 0 |
ParametricShadowSplit | 25 |
PerspectiveAspect | +24 |
PerspectiveHorizontal | 0 |
PerspectiveRotate | +1.9 |
PerspectiveScale | 100 |
PerspectiveUpright | 4 |
PerspectiveVertical | 0 |
PerspectiveX | 0.00 |
PerspectiveY | 0.00 |
PostCropVignetteAmount | 0 |
ProcessVersion | 6.7 |
ProfileDescription | sRGB IEC61966-2.1 |
RecommendedExposureIndex | 400 |
RedHue | +5 |
RedSaturation | 0 |
Rights | All Rights Reserved |
Saturation | +5 |
SaturationAdjustmentAqua | -35 |
SaturationAdjustmentBlue | -5 |
SaturationAdjustmentGreen | -15 |
SaturationAdjustmentMagenta | +16 |
SaturationAdjustmentOrange | +8 |
SaturationAdjustmentPurple | +10 |
SaturationAdjustmentRed | +15 |
SaturationAdjustmentYellow | +5 |
ScaleFactor35efl | 2.6 |
SceneCaptureType | Standard |
SensitivityType | Recommended Exposure Index |
SerialNumber | 423052004382 |
Shadows2012 | +43 |
ShadowTint | -2 |
SharpenDetail | 25 |
SharpenEdgeMasking | 0 |
SharpenRadius | +1.0 |
Sharpness | 35 |
ShutterSpeed | 1/250 |
ShutterSpeedValue | 1/250 |
Software | Adobe Photoshop CS4 Windows |
SplitToningBalance | 0 |
SplitToningHighlightHue | 232 |
SplitToningHighlightSaturation | 0 |
SplitToningShadowHue | 65 |
SplitToningShadowSaturation | 5 |
Tint | +1 |
ToneCurve | 0, 0, 255, 255 |
ToneCurveBlue | 0, 0, 255, 255 |
ToneCurveGreen | 0, 0, 255, 255 |
ToneCurveName | Linear |
ToneCurveName2012 | Custom |
ToneCurvePV2012 | 0, 34, 65, 72, 122, 125, 255, 252 |
ToneCurvePV2012Blue | 0, 0, 41, 22, 116, 126, 186, 203, 255, 253 |
ToneCurvePV2012Green | 0, 3, 37, 24, 114, 127, 186, 203, 255, 253 |
ToneCurvePV2012Red | 0, 2, 41, 24, 117, 127, 186, 203, 255, 255 |
ToneCurveRed | 0, 0, 255, 255 |
ToneMapStrength | 0 |
URL_List | |
Version | 10.1 |
Vibrance | 0 |
VignetteAmount | 0 |
VignetteCorrectionAlreadyApplied | True |
WhiteBalance (1) | As Shot |
WhiteBalance | Auto |
Whites2012 | -2 |