Felt | Verdi |
AlreadyApplied | True |
Aperture | 20.0 |
ApertureValue | 20.0 |
BitsPerSample | 8 |
BlueHue | 0 |
BlueSaturation | +100 |
Brightness | +50 |
CameraProfile | ACR 3.3 |
CFAPattern | [Green,Red][Blue,Green] |
ChromaticAberrationB | 0 |
ChromaticAberrationR | 0 |
CircleOfConfusion | 0.020 mm |
ColorComponents | 1 |
ColorMode | RGB |
ColorSpace (1) | Unknown (-1) |
ColorSpace | Uncalibrated |
ColorTemperature | 5000 |
Contrast (2) | +25 |
Contrast | Normal |
ConvertToGrayscale | True |
CopyrightFlag | False |
CreateDate (1) | 2007:05:17 20:53:32.9+02:00 |
CreateDate | 2007:05:17 20:53:32 |
CreatorTool | Adobe Photoshop CS2 Windows |
CropAngle | 1.24687 |
CropBottom | 0.859807 |
CropHeight | 2159 |
CropLeft | 0.014406 |
CropRight | 0.835005 |
CropTop | 0 |
CropUnit | pixels |
CropWidth | 3225 |
CustomRendered | Normal |
DateTimeDigitized | 2007:05:17 20:53:32.90+02:00 |
DateTimeOriginal (1) | 2007:05:17 20:53:32.90+02:00 |
DateTimeOriginal | 2007:05:17 20:53:32 |
DigitalZoomRatio | 1 |
ExifImageHeight | 636 |
ExifImageWidth | 950 |
Exposure | 0.00 |
ExposureCompensation | 0 |
ExposureMode | Manual |
ExposureProgram | Manual |
ExposureTime | 1/20 |
FillLight | 0 |
Flash | No Flash |
FlashFired | False |
FlashFunction | False |
FlashMode | Unknown |
FlashRedEyeMode | False |
FlashReturn | No return detection |
FNumber | 20.0 |
FocalLength | 20.0 mm |
FocalLength35efl | 20.0 mm (35 mm equivalent: 30.0 mm) |
FocalLengthIn35mmFormat | 30 mm |
Format | image/jpeg |
FOV | 61.9 deg |
GainControl | None |
GrayMixerAqua | -21 |
GrayMixerBlue | +3 |
GrayMixerGreen | -21 |
GrayMixerMagenta | +6 |
GrayMixerOrange | -10 |
GrayMixerPurple | +11 |
GrayMixerRed | -2 |
GrayMixerYellow | -13 |
GreenHue | 0 |
GreenSaturation | +8 |
HasCrop | True |
HasSettings | True |
HighlightRecovery | 0 |
HyperfocalDistance | 1.00 m |
ICCProfileName | Adobe RGB (1998) |
ImageHeight (1) | 2159 |
ImageHeight | 636 |
ImageNumber | 5505 |
ImageSize | 950x636 |
ImageWidth (1) | 3225 |
ImageWidth | 950 |
ISO | 100 |
Lens | 10.0-20.0 mm f/4.0-5.6 |
LensInfo | 10-20mm f/4-5.6 |
LightSource | Unknown |
LightValue | 13.0 |
LuminanceSmoothing | 0 |
Make | NIKON CORPORATION |
MaxApertureValue | 5.7 |
Megapixels | 0.604 |
MeteringMode | Multi-segment |
Model | NIKON D200 |
ModifyDate (1) | 2007:05:25 09:14:30+02:00 |
ModifyDate | 2007:05:25 09:14:30 |
Orientation | Horizontal (normal) |
ParametricDarks | -10 |
ParametricHighlights | 0 |
ParametricHighlightSplit | 75 |
ParametricLights | +5 |
ParametricMidtoneSplit | 50 |
ParametricShadows | 0 |
ParametricShadowSplit | 25 |
ProfileDescription | Adobe RGB (1998) |
RedHue | 0 |
RedSaturation | -1 |
Saturation | Normal |
ScaleFactor35efl | 1.5 |
SceneCaptureType | Standard |
SceneType | Directly photographed |
SensingMethod | One-chip color area |
Shadows | 7 |
ShadowTint | -4 |
Sharpness (2) | 80 |
Sharpness | Normal |
ShutterSpeed | 1/20 |
ShutterSpeedValue | 1/20 |
Software | Adobe Photoshop CS2 Windows |
SplitToningBalance | 0 |
SplitToningHighlightHue | 0 |
SplitToningHighlightSaturation | 0 |
SplitToningShadowHue | 0 |
SplitToningShadowSaturation | 0 |
SubjectDistanceRange | Unknown |
Tint | -4 |
ToneCurve | 0, 0, 32, 22, 64, 56, 128, 128, 192, 196, 255, 255 |
ToneCurveName | Medium Contrast |
URL_List | |
Version | 1.0 |
VignetteAmount | -67 |
VignetteMidpoint | 12 |
WhiteBalance (2) | As Shot |
WhiteBalance | Auto |