Felt | Verdi |
AlreadyApplied | True |
Aperture | 2.8 |
ApertureValue | 2.8 |
BitsPerSample | 8 |
BlueHue | 0 |
BlueSaturation | 0 |
Brightness | 0 |
CameraProfile | ACR 2.4 |
ChromaticAberrationB | 0 |
ChromaticAberrationR | 0 |
CircleOfConfusion | 0.030 mm |
Clarity | 79 |
ColorComponents | 1 |
ColorSpace | sRGB |
ColorTemperature | 5085 |
Contrast | +19 |
ConvertToGrayscale | True |
CopyrightFlag | False |
CreateDate (1) | 2007:10:07 13:29:34+02:00 |
CreateDate | 2007:08:25 14:08:43 |
CreatorTool | Adobe Photoshop CS Macintosh |
CropAngle | -1.222059 |
CropBottom | 0.816162 |
CropHeight | 686 |
CropLeft | 0 |
CropRight | 0.963252 |
CropTop | 0.030913 |
CropUnit | pixels |
CropWidth | 1200 |
CustomRendered | Normal |
DateTimeDigitized | 2007:08:25 14:08:43+02:00 |
DateTimeOriginal (1) | 2007:08:25 14:08:43+02:00 |
DateTimeOriginal | 2007:08:25 14:08:43 |
Defringe | 0 |
ExifImageHeight | 768 |
ExifImageWidth | 439 |
Exposure | +1.11 |
ExposureCompensation | 0 |
ExposureMode | Auto |
ExposureProgram | Aperture-priority AE |
ExposureTime | 1/160 |
FillLight | 10 |
Firmware | 1.0.3 |
Flash | Off, Did not fire |
FlashCompensation | 0 |
FlashFired | False |
FlashFunction | False |
FlashMode | Off |
FlashRedEyeMode | False |
FlashReturn | No return detection |
FNumber | 2.8 |
FocalLength | 135.0 mm |
FocalLength35efl | 135.0 mm (35 mm equivalent: 135.3 mm) |
Format | image/jpeg |
FOV | 15.2 deg |
GrayMixerAqua | -20 |
GrayMixerBlue | +4 |
GrayMixerGreen | -23 |
GrayMixerMagenta | +5 |
GrayMixerOrange | -13 |
GrayMixerPurple | +12 |
GrayMixerRed | -5 |
GrayMixerYellow | -17 |
GreenHue | 0 |
GreenSaturation | 0 |
HasCrop | True |
HasSettings | True |
HighlightRecovery | 11 |
HyperfocalDistance | 217.08 m |
ImageHeight (1) | 1200 |
ImageHeight | 768 |
ImageNumber | 18 |
ImageSize | 439x768 |
ImageWidth (1) | 686 |
ImageWidth | 439 |
ISO | 640 |
Lens | EF135mm f/2L USM |
LensInfo | 135mm f/? |
LightValue | 7.6 |
LuminanceSmoothing | 0 |
Make | Canon |
MaxApertureValue | 2.0 |
Megapixels | 0.337 |
MeteringMode | Unknown |
Model | Canon EOS 5D |
ModifyDate (1) | 2007:10:07 13:31:22+02:00 |
ModifyDate | 2007:10:07 13:31:22 |
Orientation | Horizontal (normal) |
ParametricDarks | -23 |
ParametricHighlights | 0 |
ParametricHighlightSplit | 75 |
ParametricLights | -11 |
ParametricMidtoneSplit | 50 |
ParametricShadows | -21 |
ParametricShadowSplit | 25 |
ProfileDescription | sRGB IEC61966-2.1 |
Rating | 2 |
RedHue | 0 |
RedSaturation | 0 |
ScaleFactor35efl | 1.0 |
SceneCaptureType | Standard |
SerialNumber | 730504271 |
Shadows | 12 |
ShadowTint | 0 |
SharpenDetail | 25 |
SharpenEdgeMasking | 0 |
SharpenRadius | +1.0 |
Sharpness | 78 |
ShutterSpeed | 1/160 |
ShutterSpeedValue | 1/160 |
Software | Adobe Photoshop CS Macintosh |
SplitToningBalance | 0 |
SplitToningHighlightHue | 0 |
SplitToningHighlightSaturation | 0 |
SplitToningShadowHue | 0 |
SplitToningShadowSaturation | 0 |
TimeZoneOffset | 2 2 |
Tint | +4 |
ToneCurve | 0, 0, 32, 22, 64, 56, 128, 128, 192, 196, 255, 255 |
ToneCurveName | Medium Contrast |
URL_List | |
Version | 1.0 |
VignetteAmount | 0 |
WhiteBalance (1) | Custom |
WhiteBalance | Auto |