Felt | Verdi |
AlreadyApplied | True |
Aperture | 7.1 |
ApertureValue | 7.1 |
Artist | Bård Riiber |
BitsPerSample | 8 |
BlueHue | 0 |
BlueSaturation | 0 |
Brightness | +75 |
By-line | BÃ¥rd Riiber |
CameraProfile | ACR 4.4 |
ChromaticAberrationB | 0 |
ChromaticAberrationR | 0 |
CircleOfConfusion | 0.019 mm |
Clarity | 0 |
ColorComponents | 3 |
ColorNoiseReduction | 25 |
ColorSpace | sRGB |
ColorTemperature | 5700 |
Contrast | +100 |
ConvertToGrayscale | False |
Copyright | Bård Riiber |
CopyrightFlag | True |
CopyrightNotice | BÃ¥rd Riiber |
CreateDate | 2008:09:07 12:47:38 |
Creator | BÃ¥rd Riiber |
CreatorAddress | Nedre Frydendal 92 |
CreatorCity | Asker |
CreatorCountry | Norway |
CreatorPostalCode | 1384 |
CreatorTool | Adobe Photoshop Elements for Windows, version 2.0 |
CreatorWorkEmail | baard@riiber.com |
CustomRendered | Normal |
DateTimeDigitized | 2008:09:07 12:47:38+02:00 |
DateTimeOriginal (1) | 2008:09:07 12:47:38+02:00 |
DateTimeOriginal | 2008:09:07 12:47:38 |
Defringe | 0 |
ExifImageHeight | 682 |
ExifImageWidth | 1023 |
Exposure | -1.24 |
ExposureCompensation | -1/3 |
ExposureMode | Auto |
ExposureProgram | Aperture-priority AE |
ExposureTime | 1/200 |
FillLight | 27 |
Firmware | 2.0.0 |
Flash | Off, Did not fire |
FlashCompensation | 0 |
FlashFired | False |
FlashFunction | False |
FlashMode | Off |
FlashRedEyeMode | False |
FlashReturn | No return detection |
FNumber | 7.1 |
FocalLength | 351.0 mm |
FocalLength35efl | 351.0 mm (35 mm equivalent: 562.1 mm) |
FOV | 3.7 deg |
GPSAltitude (1) | 0 m |
GPSAltitude | 0 m Above Sea Level |
GPSAltitudeRef | Above Sea Level |
GPSLatitude (1) | 59 deg 33' 50.65" |
GPSLatitude | 59 deg 33' 50.65" N |
GPSLatitudeRef | North |
GPSLongitude (1) | 9 deg 13' 2.32" |
GPSLongitude | 9 deg 13' 2.32" E |
GPSLongitudeRef | East |
GPSPosition | 59 deg 33' 50.65" N, 9 deg 13' 2.32" E |
GPSVersionID | 2.2.0.0 |
GreenHue | 0 |
GreenSaturation | 0 |
HasCrop | False |
HasSettings | True |
HighlightRecovery | 39 |
HueAdjustmentAqua | 0 |
HueAdjustmentBlue | 0 |
HueAdjustmentGreen | 0 |
HueAdjustmentMagenta | 0 |
HueAdjustmentOrange | 0 |
HueAdjustmentPurple | 0 |
HueAdjustmentRed | 0 |
HueAdjustmentYellow | 0 |
HyperfocalDistance | 924.89 m |
ImageHeight (1) | 2336 |
ImageHeight | 682 |
ImageNumber | 193 |
ImageSize | 1023x682 |
ImageWidth (1) | 3504 |
ImageWidth | 1023 |
ISO | 800 |
Label | Green |
Lens | 80.0-400.0 mm |
LensInfo | 80-400mm f/? |
LightValue | 10.3 |
LuminanceAdjustmentAqua | 0 |
LuminanceAdjustmentBlue | 0 |
LuminanceAdjustmentGreen | 0 |
LuminanceAdjustmentMagenta | 0 |
LuminanceAdjustmentOrange | 0 |
LuminanceAdjustmentPurple | 0 |
LuminanceAdjustmentRed | 0 |
LuminanceAdjustmentYellow | 0 |
LuminanceSmoothing | 0 |
Make | Canon |
Marked | True |
MaxApertureValue | 4.5 |
Megapixels | 0.698 |
MeteringMode | Multi-segment |
Model | Canon EOS 20D |
ModifyDate (1) | 2008:09:21 12:24:12+02:00 |
ModifyDate | 2009:08:24 10:54:56 |
Orientation | Horizontal (normal) |
OwnerName | unknown |
ParametricDarks | 0 |
ParametricHighlights | 0 |
ParametricHighlightSplit | 75 |
ParametricLights | 0 |
ParametricMidtoneSplit | 50 |
ParametricShadows | 0 |
ParametricShadowSplit | 25 |
ProfileDescription | sRGB IEC61966-2.1 |
RedHue | 0 |
RedSaturation | 0 |
Rights | BÃ¥rd Riiber |
Saturation | 0 |
SaturationAdjustmentAqua | 0 |
SaturationAdjustmentBlue | 0 |
SaturationAdjustmentGreen | 0 |
SaturationAdjustmentMagenta | 0 |
SaturationAdjustmentOrange | 0 |
SaturationAdjustmentPurple | 0 |
SaturationAdjustmentRed | 0 |
SaturationAdjustmentYellow | 0 |
ScaleFactor35efl | 1.6 |
SceneCaptureType | Standard |
SerialNumber | 530300577 |
Shadows | 14 |
ShadowTint | 0 |
SharpenDetail | 25 |
SharpenEdgeMasking | 0 |
SharpenRadius | +1.0 |
Sharpness | 25 |
ShutterSpeed | 1/200 |
ShutterSpeedValue | 1/200 |
Software | Adobe Photoshop Elements 2.0 |
SplitToningBalance | 0 |
SplitToningHighlightHue | 0 |
SplitToningHighlightSaturation | 0 |
SplitToningShadowHue | 0 |
SplitToningShadowSaturation | 0 |
Tint | 0 |
ToneCurve | 0, 0, 32, 22, 64, 56, 128, 128, 192, 196, 255, 255 |
ToneCurveName | Medium Contrast |
URL_List | |
Version | 4.4.1 |
Vibrance | 0 |
VignetteAmount | 0 |
WhiteBalance (1) | As Shot |
WhiteBalance | Manual |