Felt | Verdi |
AlreadyApplied | True |
Aperture | 11.0 |
ApertureValue | 11.0 |
BitsPerSample | 8 |
BlueHue | 0 |
BlueSaturation | 0 |
Brightness | +50 |
CameraProfile | Adobe Standard |
ChromaticAberrationB | 0 |
ChromaticAberrationR | 0 |
CircleOfConfusion | 0.031 mm |
Clarity | +29 |
ColorComponents | 3 |
ColorNoiseReduction | 25 |
ColorTemperature | 2850 |
Contrast | +75 |
ConvertToGrayscale | False |
CreateDate (1) | 2009:12:30 13:11:14.08+01:00 |
CreateDate | 2009:12:30 13:11:14 |
CreatorTool | Adobe Photoshop Lightroom |
CropAngle | 0 |
CropBottom | 0.866261 |
CropHeight | 683 |
CropLeft | 0.066869 |
CropRight | 0.933131 |
CropTop | 0 |
CropUnit | pixels |
CropWidth | 1024 |
CustomRendered | Normal |
DateTimeDigitized | 2009:12:30 13:11:14.08+01:00 |
DateTimeOriginal (1) | 2009:12:30 13:11:14.08+01:00 |
DateTimeOriginal | 2009:12:30 13:11:14 |
Defringe | 0 |
DOF | 0.011 m (0.454 - 0.466 m) |
ExifImageHeight | 683 |
ExifImageWidth | 1024 |
Exposure | 0.00 |
ExposureCompensation | +2/3 |
ExposureMode | Auto |
ExposureProgram | Aperture-priority AE |
ExposureTime | 1/15 |
FillLight | 20 |
Firmware | 1.1.0 |
Flash | On, Fired |
FlashCompensation | 0.666666666666667 |
FlashFired | True |
FlashFunction | False |
FlashMode | On |
FlashRedEyeMode | False |
FlashReturn | No return detection |
FNumber | 11.0 |
FocalLength | 100.0 mm |
FocalLength35efl | 100.0 mm (35 mm equivalent: 97.6 mm) |
FOV | 20.9 deg |
GradientBasedCorrActive | true |
GradientBasedCorrAmount | 1.000000 |
GradientBasedCorrBrightness (1) | 0.150000 |
GradientBasedCorrBrightness | -0.195402 |
GradientBasedCorrClarity (1) | 0.172414 |
GradientBasedCorrClarity | 0.000000 |
GradientBasedCorrContrast (1) | -0.448276 |
GradientBasedCorrContrast | 0.000000 |
GradientBasedCorrExposure | 0.000000 |
GradientBasedCorrHue (1) | 14.000000 |
GradientBasedCorrHue (2) | 213.000000 |
GradientBasedCorrHue (3) | 40.000000 |
GradientBasedCorrHue | 22.000000 |
GradientBasedCorrMaskFullX (1) | 0.508929 |
GradientBasedCorrMaskFullX (2) | 0.510204 |
GradientBasedCorrMaskFullX (3) | 0.509070 |
GradientBasedCorrMaskFullX | 0.534805 |
GradientBasedCorrMaskFullY (1) | 0.001905 |
GradientBasedCorrMaskFullY (2) | 1.003810 |
GradientBasedCorrMaskFullY (3) | 0.497136 |
GradientBasedCorrMaskFullY | -0.302010 |
GradientBasedCorrMaskValue | 1.000000 |
GradientBasedCorrMaskWhat | Mask/Gradient |
GradientBasedCorrMaskZeroX (1) | 0.509864 |
GradientBasedCorrMaskZeroX (2) | 0.511480 |
GradientBasedCorrMaskZeroX (3) | 0.508844 |
GradientBasedCorrMaskZeroX | 0.534805 |
GradientBasedCorrMaskZeroY (1) | 0.447633 |
GradientBasedCorrMaskZeroY (2) | 0.554286 |
GradientBasedCorrMaskZeroY (3) | 0.813341 |
GradientBasedCorrMaskZeroY | 0.225397 |
GradientBasedCorrSaturation (1) | 0.287356 |
GradientBasedCorrSaturation (2) | 0.412000 |
GradientBasedCorrSaturation (4) | 0.910000 |
GradientBasedCorrSaturation (6) | 0.660000 |
GradientBasedCorrSaturation (7) | 0.000000 |
GradientBasedCorrSaturation | 1.000000 |
GradientBasedCorrSharpness | 0.000000 |
GradientBasedCorrWhat | Correction |
GrainAmount | 0 |
GreenHue | 0 |
GreenSaturation | 0 |
HasCrop | True |
HasSettings | True |
HighlightRecovery | 0 |
HueAdjustmentAqua | 0 |
HueAdjustmentBlue | 0 |
HueAdjustmentGreen | 0 |
HueAdjustmentMagenta | 0 |
HueAdjustmentOrange | 0 |
HueAdjustmentPurple | 0 |
HueAdjustmentRed | 0 |
HueAdjustmentYellow | 0 |
HyperfocalDistance | 29.53 m |
ImageHeight | 683 |
ImageNumber | 0 |
ImageSize | 1024x683 |
ImageWidth | 1024 |
ISO | 1000 |
Lens | EF100mm f/2.8 Macro USM |
LensID (1) | 190 |
LensID | Canon EF 100mm f/2.8 Macro USM |
LensInfo | 100mm f/? |
LightValue | 7.5 |
LuminanceAdjustmentAqua | 0 |
LuminanceAdjustmentBlue | 0 |
LuminanceAdjustmentGreen | 0 |
LuminanceAdjustmentMagenta | 0 |
LuminanceAdjustmentOrange | 0 |
LuminanceAdjustmentPurple | 0 |
LuminanceAdjustmentRed | 0 |
LuminanceAdjustmentYellow | 0 |
LuminanceSmoothing | 0 |
Make | Canon |
MaxApertureValue | 2.8 |
Megapixels | 0.699 |
MeteringMode | Multi-segment |
Model | Canon EOS 5D Mark II |
ModifyDate (1) | 2010:01:23 11:04:20+01:00 |
ModifyDate | 2010:01:23 11:04:20 |
PaintCorrectionActive | true |
PaintCorrectionAmount | 1.000000 |
PaintCorrectionBrightness | 0.000000 |
PaintCorrectionClarity (1) | -0.017000 |
PaintCorrectionClarity | -0.242000 |
PaintCorrectionContrast (1) | -0.005000 |
PaintCorrectionContrast | 0.000000 |
PaintCorrectionExposure (1) | -0.029000 |
PaintCorrectionExposure | 0.000000 |
PaintCorrectionHue | 0.000000 |
PaintCorrectionMaskCenterWeight | 0.041476 |
PaintCorrectionMaskFlow | 1.000000 |
PaintCorrectionMaskRadius | 0.018468 |
PaintCorrectionMaskValue | 1.000000 |
PaintCorrectionMaskWhat | Mask/Paint |
PaintCorrectionSaturation (1) | -0.005000 |
PaintCorrectionSaturation (3) | -0.774000 |
PaintCorrectionSaturation | 0.000000 |
PaintCorrectionSharpness | 0.000000 |
PaintCorrectionWhat | Correction |
ParametricDarks | +38 |
ParametricHighlights | +29 |
ParametricHighlightSplit | 75 |
ParametricLights | +36 |
ParametricMidtoneSplit | 50 |
ParametricShadows | -36 |
ParametricShadowSplit | 25 |
PostCropVignetteAmount | 0 |
ProfileDescription | sRGB IEC61966-2.1 |
RedHue | 0 |
RedSaturation | 0 |
RenderVersion | 5.0 |
Saturation | -21 |
SaturationAdjustmentAqua | 0 |
SaturationAdjustmentBlue | 0 |
SaturationAdjustmentGreen | 0 |
SaturationAdjustmentMagenta | 0 |
SaturationAdjustmentOrange | 0 |
SaturationAdjustmentPurple | 0 |
SaturationAdjustmentRed | 0 |
SaturationAdjustmentYellow | 0 |
ScaleFactor35efl | 1.0 |
SceneCaptureType | Standard |
SerialNumber | 930612310 |
Shadows | 23 |
ShadowTint | 0 |
SharpenDetail | 25 |
SharpenEdgeMasking | 0 |
SharpenRadius | +1.0 |
Sharpness | 25 |
ShutterSpeed | 1/15 |
ShutterSpeedValue | 1/15 |
SplitToningBalance | 0 |
SplitToningHighlightHue | 0 |
SplitToningHighlightSaturation | 0 |
SplitToningShadowHue | 0 |
SplitToningShadowSaturation | 0 |
SubjectDistance | 0.46 m |
Tint | 0 |
ToneCurve | 0, 0, 32, 22, 64, 56, 128, 128, 192, 196, 255, 255 |
ToneCurveName | Medium Contrast |
Version | 6.0 |
Vibrance | +40 |
VignetteAmount | -93 |
VignetteMidpoint | 24 |
WhiteBalance (2) | Tungsten |
WhiteBalance | Auto |