Felt | Verdi |
AlreadyApplied | True |
Aperture | 4.0 |
ApertureValue | 4.0 |
BitsPerSample | 8 |
BlueHue | 0 |
BlueSaturation | 0 |
Brightness | 0 |
CameraProfile | ACR 3.3 |
CFAPattern | [Green,Red][Blue,Green] |
ChromaticAberrationB | 0 |
ChromaticAberrationR | 0 |
CircleOfConfusion | 0.020 mm |
Clarity | 0 |
ColorComponents | 3 |
ColorNoiseReduction | 83 |
ColorTemperature | 7500 |
Contrast (2) | +71 |
Contrast | Low |
ConvertToGrayscale | False |
Copyright | Espen Seierstad |
CopyrightFlag | True |
CopyrightNotice | Espen Seierstad |
CreateDate (1) | 2008:06:12 22:32:59.49+02:00 |
CreateDate | 2008:06:12 22:32:59 |
CreatorTool | Adobe Photoshop Lightroom |
CropAngle | 0 |
CropBottom | 1 |
CropHeight | 1024 |
CropLeft | 0.247619 |
CropRight | 0.619286 |
CropTop | 0.170615 |
CropUnit | pixels |
CropWidth | 685 |
CustomRendered | Normal |
DateTimeDigitized | 2008:06:12 22:32:59.49+02:00 |
DateTimeOriginal (1) | 2008:06:12 22:32:59.49+02:00 |
DateTimeOriginal | 2008:06:12 22:32:59 |
Defringe | 0 |
DigitalZoomRatio | 1 |
DOF | inf (2201.60 m - inf) |
ExifImageHeight | 685 |
ExifImageWidth | 1024 |
Exposure | +2.19 |
ExposureCompensation | 0 |
ExposureMode | Auto |
ExposureProgram | Shutter speed priority AE |
ExposureTime | 1/15 |
FillLight | 0 |
Flash | No Flash |
FlashFired | False |
FlashFunction | False |
FlashMode | Unknown |
FlashRedEyeMode | False |
FlashReturn | No return detection |
FNumber | 4.0 |
FocalLength | 420.0 mm |
FocalLength35efl | 420.0 mm (35 mm equivalent: 630.0 mm) |
FocalLengthIn35mmFormat | 630 mm |
FOV | 3.3 deg |
GainControl | High gain up |
GradientBasedCorrActive | true |
GradientBasedCorrAmount | 1.000000 |
GradientBasedCorrBrightness | 0.000000 |
GradientBasedCorrClarity | 0.000000 |
GradientBasedCorrContrast | 0.000000 |
GradientBasedCorrExposure | 0.050000 |
GradientBasedCorrHue | 116.000000 |
GradientBasedCorrMaskFullX | 0.244096 |
GradientBasedCorrMaskFullY | 1.007890 |
GradientBasedCorrMaskValue | 1.000000 |
GradientBasedCorrMaskWhat | Mask/Gradient |
GradientBasedCorrMaskZeroX | 0.370921 |
GradientBasedCorrMaskZeroY | 0.587938 |
GradientBasedCorrSaturation (1) | 0.025000 |
GradientBasedCorrSaturation | 0.000000 |
GradientBasedCorrSharpness | 0.000000 |
GradientBasedCorrWhat | Correction |
GreenHue | 0 |
GreenSaturation | 0 |
HasCrop | True |
HasSettings | True |
HighlightRecovery | 0 |
HueAdjustmentAqua | 0 |
HueAdjustmentBlue | 0 |
HueAdjustmentGreen | 0 |
HueAdjustmentMagenta | 0 |
HueAdjustmentOrange | 0 |
HueAdjustmentPurple | 0 |
HueAdjustmentRed | 0 |
HueAdjustmentYellow | 0 |
HyperfocalDistance | 2201.61 m |
ImageHeight | 685 |
ImageNumber | 10007 |
ImageSize | 1024x685 |
ImageWidth | 1024 |
ISO | 1600 |
Keywords | Animals, Bear, Beast of prey, Brown Bear, Europe, Finland, Kuhmo, Mammal, Mammals, Nordic |
Label | Green |
Lens | 420.0 mm f/4.0 |
LensInfo | 420mm f/4 |
LightSource | Unknown |
LightValue | 3.9 |
LuminanceAdjustmentAqua | 0 |
LuminanceAdjustmentBlue | 0 |
LuminanceAdjustmentGreen | 0 |
LuminanceAdjustmentMagenta | 0 |
LuminanceAdjustmentOrange | 0 |
LuminanceAdjustmentPurple | 0 |
LuminanceAdjustmentRed | 0 |
LuminanceAdjustmentYellow | 0 |
LuminanceSmoothing | 88 |
Make | NIKON CORPORATION |
Marked | True |
MaxApertureValue | 4.0 |
Megapixels | 0.701 |
MeteringMode | Multi-segment |
Model | NIKON D200 |
ModifyDate (1) | 2010:03:23 18:16:14+01:00 |
ModifyDate | 2010:03:23 18:16:14 |
PaintCorrectionActive | true |
PaintCorrectionAmount | 1.000000 |
PaintCorrectionBrightness | 0.000000 |
PaintCorrectionClarity (1) | 0.750000 |
PaintCorrectionClarity | 0.000000 |
PaintCorrectionContrast (1) | 0.325000 |
PaintCorrectionContrast | 0.000000 |
PaintCorrectionExposure (1) | -0.025000 |
PaintCorrectionExposure | -0.175000 |
PaintCorrectionHue | 116.000000 |
PaintCorrectionMaskCenterWeight (1) | 0.000000 |
PaintCorrectionMaskCenterWeight (3) | 0.111493 |
PaintCorrectionMaskCenterWeight | 0.290787 |
PaintCorrectionMaskFlow | 1.000000 |
PaintCorrectionMaskRadius (1) | 0.052843 |
PaintCorrectionMaskRadius (6) | 0.011470 |
PaintCorrectionMaskRadius | 0.014598 |
PaintCorrectionMaskValue (8) | 1.000000 |
PaintCorrectionMaskValue | 0.000000 |
PaintCorrectionMaskWhat | Mask/Paint |
PaintCorrectionSaturation | 0.000000 |
PaintCorrectionSharpness (1) | 0.150000 |
PaintCorrectionSharpness | 0.000000 |
PaintCorrectionWhat | Correction |
ParametricDarks | -52 |
ParametricHighlights | +60 |
ParametricHighlightSplit | 75 |
ParametricLights | +10 |
ParametricMidtoneSplit | 50 |
ParametricShadows | -43 |
ParametricShadowSplit | 25 |
PostCropVignetteAmount | 0 |
ProfileDescription | sRGB IEC61966-2.1 |
Rating | 4 |
RedHue | 0 |
RedSaturation | 0 |
Rights | Espen Seierstad |
Saturation (2) | -60 |
Saturation | Normal |
SaturationAdjustmentAqua | +50 |
SaturationAdjustmentBlue | +58 |
SaturationAdjustmentGreen | +10 |
SaturationAdjustmentMagenta | 0 |
SaturationAdjustmentOrange | +13 |
SaturationAdjustmentPurple | +23 |
SaturationAdjustmentRed | 0 |
SaturationAdjustmentYellow | +23 |
ScaleFactor35efl | 1.5 |
SceneCaptureType | Standard |
SceneType | Directly photographed |
SensingMethod | One-chip color area |
Shadows | 18 |
ShadowTint | 0 |
SharpenDetail | 25 |
SharpenEdgeMasking | 0 |
SharpenRadius | +1.0 |
Sharpness (2) | 25 |
Sharpness | Hard |
ShutterSpeed | 1/15 |
ShutterSpeedValue | 1/15 |
Software | Ver.2.00 |
SplitToningBalance | 0 |
SplitToningHighlightHue | 30 |
SplitToningHighlightSaturation | 7 |
SplitToningShadowHue | 34 |
SplitToningShadowSaturation | 11 |
Subject | Animals, Bear, Beast of prey, Brown Bear, Europe, Finland, Kuhmo, Mammal, Mammals, Nordic |
SubjectDistance | 4294967295 m |
SubjectDistanceRange | Unknown |
Tint | +10 |
ToneCurve | 0, 0, 255, 255 |
ToneCurveName | Linear |
UserComment | Espen Seierstad |
Version | 5.6 |
Vibrance | -60 |
VignetteAmount | 0 |
WhiteBalance (2) | Shade |
WhiteBalance | Auto |