Felt | Verdi |
AlreadyApplied | True |
Aperture | 13.0 |
ApertureValue | 13.0 |
BitsPerSample | 8 |
BlueHue | 0 |
BlueSaturation | 0 |
Brightness | +50 |
CameraProfile | Adobe Standard |
CFAPattern | [Green,Red][Blue,Green] |
ChromaticAberrationB | 0 |
ChromaticAberrationR | 0 |
CircleOfConfusion | 0.021 mm |
Clarity | +100 |
ColorComponents | 3 |
ColorMode | RGB |
ColorNoiseReduction | 25 |
ColorNoiseReductionDetail | 50 |
ColorSpace | sRGB |
ColorTemperature | 5800 |
Contrast (1) | +49 |
Contrast | Normal |
ConvertToGrayscale | False |
CreateDate (1) | 2011:08:27 20:20:16.54+02:00 |
CreateDate | 2011:08:27 20:20:16 |
CreatorTool | Adobe Photoshop CS5 Windows |
CustomRendered | Normal |
DateCreated (1) | 2011:08:27 |
DateCreated | 2011:08:27 20:20:16.054 |
DateTimeOriginal | 2011:08:27 20:20:16 |
Defringe | 0 |
DigitalZoomRatio | 1 |
ExifImageHeight | 537 |
ExifImageWidth | 800 |
Exposure | 0.00 |
ExposureCompensation | 0 |
ExposureMode | Auto |
ExposureProgram | Aperture-priority AE |
ExposureTime | 1/15 |
FillLight | 0 |
Flash | No Flash |
FNumber | 13.0 |
FocalLength | 11.0 mm |
FocalLength35efl | 11.0 mm (35 mm equivalent: 16.0 mm) |
FocalLengthIn35mmFormat | 16 mm |
Format | image/jpeg |
FOV | 96.7 deg |
GainControl | None |
GrainAmount | 0 |
GreenHue | 0 |
GreenSaturation | 0 |
HasCrop | False |
HasSettings | True |
HighlightRecovery | 0 |
HueAdjustmentAqua | 0 |
HueAdjustmentBlue | 0 |
HueAdjustmentGreen | 0 |
HueAdjustmentMagenta | 0 |
HueAdjustmentOrange | 0 |
HueAdjustmentPurple | 0 |
HueAdjustmentRed | 0 |
HueAdjustmentYellow | 0 |
HyperfocalDistance | 0.45 m |
ICCProfileName | sRGB IEC61966-2.1 |
ImageHeight | 537 |
ImageNumber | 21985 |
ImageSize | 800x537 |
ImageWidth | 800 |
ISO | 100 |
Lens | 11.0-16.0 mm f/2.8 |
LensInfo | 11-16mm f/2.8 |
LightSource | Unknown |
LightValue | 11.3 |
LuminanceAdjustmentAqua | 0 |
LuminanceAdjustmentBlue | 0 |
LuminanceAdjustmentGreen | 0 |
LuminanceAdjustmentMagenta | 0 |
LuminanceAdjustmentOrange | 0 |
LuminanceAdjustmentPurple | 0 |
LuminanceAdjustmentRed | 0 |
LuminanceAdjustmentYellow | 0 |
LuminanceSmoothing | 0 |
Make | NIKON CORPORATION |
MaxApertureValue | 2.8 |
Megapixels | 0.430 |
MeteringMode | Center-weighted average |
Model | NIKON D200 |
ModifyDate (1) | 2011:08:28 23:22:35+02:00 |
ModifyDate | 2011:08:28 23:22:35 |
Orientation | Horizontal (normal) |
ParametricDarks | 0 |
ParametricHighlights | 0 |
ParametricHighlightSplit | 75 |
ParametricLights | 0 |
ParametricMidtoneSplit | 50 |
ParametricShadows | 0 |
ParametricShadowSplit | 25 |
PostCropVignetteAmount | 0 |
ProcessVersion | 5.7 |
ProfileDescription | sRGB IEC61966-2.1 |
Rating | 0 |
RawFileName | _DSC8476.NEF |
RedHue | 0 |
RedSaturation | 0 |
Saturation (1) | 0 |
Saturation | Normal |
SaturationAdjustmentAqua | 0 |
SaturationAdjustmentBlue | 0 |
SaturationAdjustmentGreen | 0 |
SaturationAdjustmentMagenta | 0 |
SaturationAdjustmentOrange | 0 |
SaturationAdjustmentPurple | 0 |
SaturationAdjustmentRed | 0 |
SaturationAdjustmentYellow | 0 |
ScaleFactor35efl | 1.5 |
SceneCaptureType | Standard |
SceneType | Directly photographed |
SensingMethod | One-chip color area |
Shadows | 5 |
ShadowTint | 0 |
SharpenDetail | 25 |
SharpenEdgeMasking | 0 |
SharpenRadius | +1.0 |
Sharpness (1) | 25 |
Sharpness | Soft |
ShutterSpeed | 1/15 |
ShutterSpeedValue | 1/15 |
SidecarForExtension | NEF |
Software | Adobe Photoshop CS5 Windows |
SplitToningBalance | 0 |
SplitToningHighlightHue | 0 |
SplitToningHighlightSaturation | 0 |
SplitToningShadowHue | 0 |
SplitToningShadowSaturation | 0 |
SubjectDistanceRange | Unknown |
Tint | -5 |
ToneCurve | 0, 0, 32, 22, 64, 56, 128, 128, 192, 196, 255, 255 |
ToneCurveName | Medium Contrast |
URL_List | |
Version | 6.0 |
Vibrance | +8 |
VignetteAmount | 0 |
WhiteBalance (1) | As Shot |
WhiteBalance | Auto |