Felt | Verdi |
AlreadyApplied | True |
Aperture | 3.6 |
ApertureValue | 3.6 |
BitsPerSample (1) | 8 8 8 |
BitsPerSample | 8 |
BlueHue | 0 |
BlueSaturation | 0 |
Brightness | +35 |
CameraProfile | ACR 3.5 |
ChromaticAberrationB | 0 |
ChromaticAberrationR | -1 |
Clarity | +47 |
ColorComponents | 3 |
ColorMode | RGB |
ColorNoiseReduction | 25 |
ColorSpace | Uncalibrated |
ColorTemperature | 4550 |
Contrast | +75 |
ConvertToGrayscale | False |
CreateDate (1) | 2007:10:18 16:04:00+02:00 |
CreateDate | 2007:10:18 16:04:00 |
CreatorTool | Adobe Photoshop CS5 Macintosh |
CropAngle | -1.946865 |
CropBottom | 0.938906 |
CropLeft | 0.025777 |
CropRight | 1 |
CropTop | 0.063743 |
DateCreated | 2007:10:18 |
DateTimeOriginal | 2007:10:18 16:04:00 |
Defringe | 0 |
ExifImageHeight | 768 |
ExifImageWidth | 567 |
Exposure | -0.15 |
ExposureCompensation | 0 |
ExposureProgram | Program AE |
ExposureTime | 1/125 |
FillLight | 0 |
Flash | Off, Did not fire |
FNumber | 3.6 |
FocalLength | 17.9 mm |
FocalLength35efl | 17.9 mm |
Format | image/jpeg |
GreenHue | -7 |
GreenSaturation | +14 |
HasCrop | True |
HasSettings | True |
HighlightRecovery | 0 |
HueAdjustmentAqua | 0 |
HueAdjustmentBlue | 0 |
HueAdjustmentGreen | 0 |
HueAdjustmentMagenta | 0 |
HueAdjustmentOrange | 0 |
HueAdjustmentPurple | 0 |
HueAdjustmentRed | 0 |
HueAdjustmentYellow | 0 |
ICCProfileName | Adobe RGB (1998) |
ImageHeight (1) | 4000 |
ImageHeight | 768 |
ImageSize | 567x768 |
ImageWidth (1) | 4993 |
ImageWidth | 567 |
ISO | 100 |
LightValue | 10.7 |
LuminanceAdjustmentAqua | 0 |
LuminanceAdjustmentBlue | 0 |
LuminanceAdjustmentGreen | 0 |
LuminanceAdjustmentMagenta | 0 |
LuminanceAdjustmentOrange | 0 |
LuminanceAdjustmentPurple | 0 |
LuminanceAdjustmentRed | 0 |
LuminanceAdjustmentYellow | 0 |
LuminanceSmoothing | 0 |
Make | LEICA |
MaxApertureValue | 2.8 |
Megapixels | 0.435 |
MeteringMode | Center-weighted average |
Model | V-LUX 1 |
ModifyDate (1) | 2011:04:13 22:45:12+02:00 |
ModifyDate | 2011:04:13 22:45:12 |
Orientation | Horizontal (normal) |
ParametricDarks | 0 |
ParametricHighlights | 0 |
ParametricHighlightSplit | 75 |
ParametricLights | 0 |
ParametricMidtoneSplit | 50 |
ParametricShadows | 0 |
ParametricShadowSplit | 25 |
PhotometricInterpretation | RGB |
PlanarConfiguration | Chunky |
PostCropVignetteAmount | 0 |
ProfileDescription | Adobe RGB (1998) |
Rating | 0 |
RawFileName | L1010209.RAW |
RedHue | -50 |
RedSaturation | -6 |
Saturation | +62 |
SaturationAdjustmentAqua | 0 |
SaturationAdjustmentBlue | 0 |
SaturationAdjustmentGreen | 0 |
SaturationAdjustmentMagenta | 0 |
SaturationAdjustmentOrange | 0 |
SaturationAdjustmentPurple | 0 |
SaturationAdjustmentRed | 0 |
SaturationAdjustmentYellow | 0 |
Shadows | 13 |
ShadowTint | +12 |
SharpenDetail | 25 |
SharpenEdgeMasking | 0 |
SharpenRadius | +1.0 |
Sharpness | 25 |
ShutterSpeed | 1/125 |
ShutterSpeedValue | 1/125 |
SidecarForExtension | RAW |
Software | Adobe Photoshop CS5 Macintosh |
SplitToningBalance | +100 |
SplitToningHighlightHue | 59 |
SplitToningHighlightSaturation | 15 |
SplitToningShadowHue | 93 |
SplitToningShadowSaturation | 36 |
Tint | +13 |
ToneCurve | 0, 0, 32, 22, 64, 56, 128, 128, 192, 196, 255, 255 |
ToneCurveName | Medium Contrast |
URL_List | |
Version | 5.0 |
Vibrance | +6 |
VignetteAmount | -41 |
VignetteMidpoint | 20 |
WhiteBalance | Custom |