Felt | Verdi |
AlreadyApplied | False |
Aperture | 13.0 |
ApertureValue | 13.0 |
BitsPerSample | 8 |
BlueHue | 0 |
BlueSaturation | 0 |
Brightness | +6 |
CameraProfile | Embedded |
ChromaticAberrationB | 0 |
ChromaticAberrationR | 0 |
CircleOfConfusion | 0.023 mm |
Clarity | 0 |
ColorComponents | 3 |
ColorMode | RGB |
ColorNoiseReduction | 0 |
ColorSpace | sRGB |
Contrast | +15 |
ConvertToGrayscale | False |
CreateDate (1) | 2011:06:28 15:35:53.83+02:00 |
CreateDate | 2011:06:28 15:35:53 |
CreatorTool | Adobe Photoshop CS5 Windows |
CustomRendered | Normal |
DateCreated (1) | 2011:06:28 |
DateCreated | 2011:06:28 15:35:53.083 |
DateTimeDigitized | 2011:06:28 15:35:53.83+02:00 |
DateTimeOriginal (1) | 2011:06:28 15:35:53.83+02:00 |
DateTimeOriginal | 2011:06:28 15:35:53 |
Defringe | 0 |
ExifImageHeight | 2588 |
ExifImageWidth | 3884 |
Exposure | 0.00 |
ExposureCompensation | +2 |
ExposureMode | Auto bracket |
ExposureProgram | Aperture-priority AE |
ExposureTime | 1/200 |
FillLight | 11 |
Firmware | 1.3.0 |
Flash | Off, Did not fire |
FlashCompensation | 0 |
FlashFired | False |
FlashFunction | False |
FlashMode | Off |
FlashRedEyeMode | False |
FlashReturn | No return detection |
FNumber | 13.0 |
FocalLength | 75.0 mm |
FocalLength35efl | 75.0 mm (35 mm equivalent: 96.1 mm) |
Format | image/jpeg |
FOV | 21.2 deg |
GrainAmount | 0 |
GreenHue | 0 |
GreenSaturation | 0 |
HasCrop | False |
HasSettings | True |
HighlightRecovery | 0 |
HueAdjustmentAqua | 0 |
HueAdjustmentBlue | 0 |
HueAdjustmentGreen | 0 |
HueAdjustmentMagenta | 0 |
HueAdjustmentOrange | 0 |
HueAdjustmentPurple | 0 |
HueAdjustmentRed | 0 |
HueAdjustmentYellow | 0 |
HyperfocalDistance | 18.45 m |
ICCProfileName | sRGB IEC61966-2.1 |
ImageHeight | 2588 |
ImageNumber | 0 |
ImageSize | 3884x2588 |
ImageWidth | 3884 |
IncrementalTemperature | 0 |
IncrementalTint | 0 |
ISO | 400 |
Lens | EF75-300mm f/4-5.6 |
LensID (1) | 39 |
LensID | Canon EF 75-300mm f/4-5.6 |
LensInfo | 75-300mm f/? |
LightValue | 13.0 |
LuminanceAdjustmentAqua | 0 |
LuminanceAdjustmentBlue | 0 |
LuminanceAdjustmentGreen | 0 |
LuminanceAdjustmentMagenta | 0 |
LuminanceAdjustmentOrange | 0 |
LuminanceAdjustmentPurple | 0 |
LuminanceAdjustmentRed | 0 |
LuminanceAdjustmentYellow | 0 |
LuminanceSmoothing | 0 |
Make | Canon |
MaxApertureValue | 4.2 |
Megapixels | 10.1 |
MeteringMode | Spot |
Model | Canon EOS-1D Mark III |
ModifyDate (1) | 2011:07:03 01:31:43+02:00 |
ModifyDate | 2011:07:03 01:31:43 |
Orientation | Horizontal (normal) |
ParametricDarks | -34 |
ParametricHighlights | -44 |
ParametricHighlightSplit | 75 |
ParametricLights | +26 |
ParametricMidtoneSplit | 50 |
ParametricShadows | -3 |
ParametricShadowSplit | 25 |
PostCropVignetteAmount | 0 |
ProcessVersion | 5.7 |
ProfileDescription | sRGB IEC61966-2.1 |
Rating | 0 |
RawFileName | Aletch_HDR.jpg |
RedHue | 0 |
RedSaturation | 0 |
Saturation | 0 |
SaturationAdjustmentAqua | +13 |
SaturationAdjustmentBlue | +39 |
SaturationAdjustmentGreen | +64 |
SaturationAdjustmentMagenta | 0 |
SaturationAdjustmentOrange | 0 |
SaturationAdjustmentPurple | 0 |
SaturationAdjustmentRed | 0 |
SaturationAdjustmentYellow | +78 |
ScaleFactor35efl | 1.3 |
SceneCaptureType | Standard |
SerialNumber | 535218 |
Shadows | 9 |
ShadowTint | 0 |
SharpenDetail | 25 |
SharpenEdgeMasking | 0 |
SharpenRadius | +1.0 |
Sharpness | 0 |
ShutterSpeed | 1/200 |
ShutterSpeedValue | 1/200 |
Software | Adobe Photoshop CS5 Windows |
SplitToningBalance | 0 |
SplitToningHighlightHue | 0 |
SplitToningHighlightSaturation | 0 |
SplitToningShadowHue | 0 |
SplitToningShadowSaturation | 0 |
ToneCurve | 0, 0, 255, 255 |
ToneCurveName | Linear |
URL_List | |
Version | 6.0 |
Vibrance | 0 |
VignetteAmount | 0 |
WhiteBalance (2) | As Shot |
WhiteBalance | Manual |