Felt | Verdi |
AlreadyApplied | False |
Aperture | 13.0 |
ApertureValue | 13.0 |
BitsPerSample (1) | 8 8 8 |
BitsPerSample | 8 |
BlackClip | 0.631700 |
BlueHue | 0 |
BlueSaturation | 0 |
Brightness | 0 |
CameraProfile | Embedded |
ChromaticAberrationB | 0 |
ChromaticAberrationR | 0 |
Clarity | +20 |
ColorComponents | 3 |
ColorNoiseReduction | 0 |
ColorSaturation | 75.0 |
ColorSpace | Uncalibrated |
ColorTemperature | 1.8 |
Contrast | +6 |
ConvertToGrayscale | False |
CreateDate | 2012:03:18 16:47:21+01:00 |
CreatorTool | Adobe Photoshop CS5.1 Windows |
DateCreated (1) | 2012:03:18 |
DateCreated | 2012:03:18 16:47:21 |
DateTimeOriginal (1) | 2012:03:18 16:47:21+01:00 |
DateTimeOriginal | 2012:03:18 16:47:21 |
Defringe | 0 |
ExifImageHeight | 2133 |
ExifImageWidth | 3332 |
Exposure | -0.10 |
ExposureTime | 1/100 |
FillLight | 19 |
FNumber | 13.0 |
FocalLength | 32.0 mm |
FocalLength35efl | 32.0 mm |
Format | image/jpeg |
Gamma | 1.43 |
GradientBasedCorrActive | true |
GradientBasedCorrAmount | 1.000000 |
GradientBasedCorrBrightness (1) | 0.000000 |
GradientBasedCorrBrightness | 0.073000 |
GradientBasedCorrClarity | 0.000000 |
GradientBasedCorrContrast | 0.073000 |
GradientBasedCorrExposure (1) | 0.049000 |
GradientBasedCorrExposure | 0.390000 |
GradientBasedCorrHue | 0.000000 |
GradientBasedCorrMaskFullX (1) | 0.986147 |
GradientBasedCorrMaskFullX | 0.485498 |
GradientBasedCorrMaskFullY (1) | 0.603691 |
GradientBasedCorrMaskFullY | -0.055382 |
GradientBasedCorrMaskValue | 1.000000 |
GradientBasedCorrMaskWhat | Mask/Gradient |
GradientBasedCorrMaskZeroX (1) | 0.667541 |
GradientBasedCorrMaskZeroX | 0.486625 |
GradientBasedCorrMaskZeroY (1) | 0.528596 |
GradientBasedCorrMaskZeroY | 0.338204 |
GradientBasedCorrSaturation (1) | 0.049000 |
GradientBasedCorrSaturation | 0.000000 |
GradientBasedCorrSharpness | 0.000000 |
GradientBasedCorrWhat | Correction |
GrainAmount | 0 |
GreenHue | 0 |
GreenSaturation | 0 |
HasCrop | False |
HasSettings | True |
HighlightRecovery | 56 |
HighlightsSmoothing | 0.0 |
HueAdjustmentAqua | 0 |
HueAdjustmentBlue | 0 |
HueAdjustmentGreen | 0 |
HueAdjustmentMagenta | 0 |
HueAdjustmentOrange | -25 |
HueAdjustmentPurple | 0 |
HueAdjustmentRed | -14 |
HueAdjustmentYellow | 0 |
ImageHeight (1) | 2286 |
ImageHeight | 2133 |
ImageSize | 3332x2133 |
ImageWidth (1) | 3430 |
ImageWidth | 3332 |
IncrementalTemperature | -4 |
IncrementalTint | 0 |
ISO | 100 |
IsPano360 | No |
LensManualDistortionAmount | 0 |
LensProfileChromaticAberrationScale | 100 |
LensProfileDistortionScale | 100 |
LensProfileEnable | 1 |
LensProfileFilename | Canon EOS 50D (Canon EF-S 18-55mm f3.5-5.6 IS).lcp |
LensProfileName | Adobe (Canon EF-S 18-55mm f/3.5-5.6 IS) |
LensProfileSetup | Custom |
LensProfileVignettingScale | 100 |
LightValue | 14.0 |
LuminanceAdjustmentAqua | 0 |
LuminanceAdjustmentBlue | 0 |
LuminanceAdjustmentGreen | 0 |
LuminanceAdjustmentMagenta | 0 |
LuminanceAdjustmentOrange | -39 |
LuminanceAdjustmentPurple | 0 |
LuminanceAdjustmentRed | -55 |
LuminanceAdjustmentYellow | 0 |
LuminanceNoiseReductionContrast | 0 |
LuminanceNoiseReductionDetail | 64 |
LuminanceSmoothing | 30 |
Luminosity | 1.5 |
Megapixels | 7.1 |
Method | Details Enhancer |
Microcontrast | 5.6 |
Microsmoothing | 29.3 |
Model | Canon EOS 350D DIGITAL |
ModifyDate (1) | 2012:03:18 20:01:50+01:00 |
ModifyDate | 2012:03:18 20:01:50 |
Orientation | Horizontal (normal) |
PaintCorrectionActive | true |
PaintCorrectionAmount | 1.000000 |
PaintCorrectionBrightness | -0.024000 |
PaintCorrectionClarity | 0.000000 |
PaintCorrectionContrast | 0.073000 |
PaintCorrectionExposure | -0.024000 |
PaintCorrectionHue | 0.000000 |
PaintCorrectionMaskCenterWeight | 0.086542 |
PaintCorrectionMaskFlow | 0.988000 |
PaintCorrectionMaskRadius | 0.057719 |
PaintCorrectionMaskValue | 1.000000 |
PaintCorrectionMaskWhat | Mask/Paint |
PaintCorrectionSaturation (1) | 0.049000 |
PaintCorrectionSaturation | 0.000000 |
PaintCorrectionSharpness | 0.000000 |
PaintCorrectionWhat | Correction |
ParametricDarks | +26 |
ParametricHighlights | +1 |
ParametricHighlightSplit | 75 |
ParametricLights | +21 |
ParametricMidtoneSplit | 50 |
ParametricShadows | +16 |
ParametricShadowSplit | 25 |
PerspectiveHorizontal | 0 |
PerspectiveRotate | 0.0 |
PerspectiveScale | 100 |
PerspectiveVertical | 0 |
PhotometricInterpretation | RGB |
PostCropVignetteAmount | -30 |
PostCropVignetteFeather | 62 |
PostCropVignetteHighlightContrast | 0 |
PostCropVignetteMidpoint | 21 |
PostCropVignetteRoundness | -61 |
PostCropVignetteStyle | 1 |
ProcessVersion | 5.7 |
Rating | 0 |
RawFileName | _MG_0540_1_2_tonemapped.jpg |
RedHue | 0 |
RedSaturation | 0 |
Saturation | -4 |
SaturationAdjustmentAqua | +2 |
SaturationAdjustmentBlue | +18 |
SaturationAdjustmentGreen | -41 |
SaturationAdjustmentMagenta | 0 |
SaturationAdjustmentOrange | +34 |
SaturationAdjustmentPurple | 0 |
SaturationAdjustmentRed | -12 |
SaturationAdjustmentYellow | -18 |
SaturationHighlights | -0.4 |
SaturationShadows | 1.2 |
Shadows | 3 |
ShadowsClipping | 0.0 |
ShadowsSmoothing | 0.0 |
ShadowTint | 0 |
SharpenDetail | 25 |
SharpenEdgeMasking | 0 |
SharpenRadius | +1.0 |
Sharpness | 69 |
ShutterSpeed | 1/100 |
ShutterSpeedValue | 1/100 |
Smoothing | High |
SmoothingMode | Light |
Software | Adobe Photoshop CS5.1 Windows |
SplitToningBalance | 0 |
SplitToningHighlightHue | 0 |
SplitToningHighlightSaturation | 0 |
SplitToningShadowHue | 0 |
SplitToningShadowSaturation | 0 |
Strength | 90.0 |
ToneCurve | 0, 0, 255, 255 |
ToneCurveName | Linear |
URL_List | |
Version (1) | 4.1 |
Version | 6.3 |
Vibrance | -12 |
VignetteAmount | 0 |
WhiteBalance | Custom |
WhiteClip | 0.631700 |