Felt | Verdi |
AlreadyApplied | True |
Aperture | 2.0 |
ApertureValue | 2.0 |
Artist | Katherine Kelly Eriksen |
AutoLateralCA | 0 |
BitsPerSample | 8 |
Blacks2012 | -20 |
BlueHue | -44 |
BlueSaturation | +33 |
Brightness | +50 |
By-line | Katherine Kelly Eriksen |
CameraProfile | Embedded |
CircleOfConfusion | 0.019 mm |
Clarity | 0 |
Clarity2012 | +50 |
ColorComponents | 3 |
ColorNoiseReduction | 0 |
ColorTemperature | 4950 |
Contrast | +25 |
Contrast2012 | +25 |
ConvertToGrayscale | False |
Copyright | All rights reserved |
CopyrightNotice | All rights reserved |
CreateDate (1) | 2012:03:26 16:15:29.27 |
CreateDate | 2012:03:26 16:15:29 |
Creator | Katherine Kelly Eriksen |
CreatorTool | Adobe Photoshop Lightroom 4.0 (Windows) |
CropAngle | 0 |
CropBottom | 1 |
CropConstrainToWarp | 0 |
CropHeight | 1000 |
CropLeft | 0.308593 |
CropRight | 0.753038 |
CropTop | 0 |
CropUnit | pixels |
CropWidth | 667 |
CustomRendered | Normal |
DateCreated (1) | 2012:03:26 |
DateCreated | 2012:03:26 16:15:29.27 |
DateTimeOriginal | 2012:03:26 16:15:29 |
Defringe | 0 |
Exposure | 0.00 |
Exposure2012 | +0.30 |
ExposureCompensation | 0 |
ExposureMode | Manual |
ExposureProgram | Manual |
ExposureTime | 1/500 |
FillLight | 0 |
Firmware | 1.1.0 |
Flash | Off, Did not fire |
FlashCompensation | 0 |
FNumber | 2.0 |
FocalLength | 35.0 mm |
FocalLength35efl | 35.0 mm (35 mm equivalent: 55.0 mm) |
Format | image/jpeg |
FOV | 36.2 deg |
GrainAmount | 0 |
GreenHue | +46 |
GreenSaturation | 0 |
HasCrop | True |
HasSettings | True |
HighlightRecovery | 0 |
Highlights2012 | 0 |
HueAdjustmentAqua | 0 |
HueAdjustmentBlue | 0 |
HueAdjustmentGreen | 0 |
HueAdjustmentMagenta | 0 |
HueAdjustmentOrange | 0 |
HueAdjustmentPurple | 0 |
HueAdjustmentRed | 0 |
HueAdjustmentYellow | 0 |
HyperfocalDistance | 32.06 m |
ImageHeight | 667 |
ImageNumber | 0 |
ImageSize | 1000x667 |
ImageWidth | 1000 |
ISO | 100 |
Lens | EF35mm f/2 |
LensID (1) | 11 |
LensID | Canon EF 35mm f/2 |
LensInfo | 35mm f/? |
LensManualDistortionAmount | 0 |
LensModel | EF35mm f/2 |
LensProfileEnable | 0 |
LensProfileSetup | LensDefaults |
LensSerialNumber | 0000000000 |
LightValue | 11.0 |
LuminanceAdjustmentAqua | 0 |
LuminanceAdjustmentBlue | 0 |
LuminanceAdjustmentGreen | 0 |
LuminanceAdjustmentMagenta | 0 |
LuminanceAdjustmentOrange | 0 |
LuminanceAdjustmentPurple | 0 |
LuminanceAdjustmentRed | 0 |
LuminanceAdjustmentYellow | 0 |
LuminanceNoiseReductionContrast | 0 |
LuminanceNoiseReductionDetail | 50 |
LuminanceSmoothing | 30 |
Make | Canon |
MaxApertureValue | 2.0 |
Megapixels | 0.667 |
MeteringMode | Multi-segment |
Model | Canon EOS 60D |
ModifyDate (1) | 2012:03:30 00:54:09+02:00 |
ModifyDate | 2012:03:30 00:54:09 |
PaintCorrectionActive | true |
PaintCorrectionAmount | 1.000000 |
PaintCorrectionBrightness | 0.000000 |
PaintCorrectionClarity2012 | 1.000000 |
PaintCorrectionContrast2012 | 0.050000 |
PaintCorrectionExposure2012 | 0.250000 |
PaintCorrectionHighlights2012 | 0.000000 |
PaintCorrectionHue | 169.000000 |
PaintCorrectionLuminanceNoise | 0.000000 |
PaintCorrectionMaskCenterWeight (13) | 0.018384 |
PaintCorrectionMaskCenterWeight | 0.064361 |
PaintCorrectionMaskFlow | 1.000000 |
PaintCorrectionMaskRadius (1) | 0.062233 |
PaintCorrectionMaskRadius (14) | 0.011082 |
PaintCorrectionMaskRadius (2) | 0.023234 |
PaintCorrectionMaskRadius (6) | 0.028980 |
PaintCorrectionMaskRadius (8) | 0.015210 |
PaintCorrectionMaskRadius | 0.015670 |
PaintCorrectionMaskValue (3) | 1.000000 |
PaintCorrectionMaskValue | 0.000000 |
PaintCorrectionMaskWhat | Mask/Paint |
PaintCorrectionMoire | 0.000000 |
PaintCorrectionSaturation (1) | 1.000000 |
PaintCorrectionSaturation | 0.000000 |
PaintCorrectionShadows2012 | 0.000000 |
PaintCorrectionSharpness | 0.100000 |
PaintCorrectionTemperature | 0.000000 |
PaintCorrectionTint | 0.000000 |
PaintCorrectionWhat | Correction |
ParametricDarks | +52 |
ParametricHighlights | 0 |
ParametricHighlightSplit | 90 |
ParametricLights | 0 |
ParametricMidtoneSplit | 59 |
ParametricShadows | 0 |
ParametricShadowSplit | 10 |
PerspectiveHorizontal | 0 |
PerspectiveRotate | 0.0 |
PerspectiveScale | 100 |
PerspectiveVertical | 0 |
PostCropVignetteAmount | 0 |
ProcessVersion | 6.7 |
ProfileDescription | sRGB IEC61966-2.1 |
RecommendedExposureIndex | 100 |
RedHue | +49 |
RedSaturation | 0 |
Rights | All rights reserved |
Saturation | -16 |
SaturationAdjustmentAqua | -14 |
SaturationAdjustmentBlue | -14 |
SaturationAdjustmentGreen | -14 |
SaturationAdjustmentMagenta | -14 |
SaturationAdjustmentOrange | -12 |
SaturationAdjustmentPurple | -14 |
SaturationAdjustmentRed | -12 |
SaturationAdjustmentYellow | -13 |
ScaleFactor35efl | 1.6 |
SceneCaptureType | Standard |
SensitivityType | Recommended Exposure Index |
SerialNumber | 1480918937 |
Shadows | 5 |
Shadows2012 | 0 |
ShadowTint | 0 |
SharpenDetail | 25 |
SharpenEdgeMasking | 0 |
SharpenRadius | +1.0 |
Sharpness | 30 |
ShutterSpeed | 1/500 |
ShutterSpeedValue | 1/500 |
Software | Adobe Photoshop Lightroom 4.0 (Windows) |
SplitToningBalance | 0 |
SplitToningHighlightHue | 78 |
SplitToningHighlightSaturation | 28 |
SplitToningShadowHue | 236 |
SplitToningShadowSaturation | 20 |
Tint | +4 |
ToneCurve | 0, 0, 255, 255 |
ToneCurveBlue | 0, 0, 255, 255 |
ToneCurveGreen | 0, 0, 255, 255 |
ToneCurveName | Linear |
ToneCurveName2012 | Linear |
ToneCurvePV2012 | 0, 0, 255, 255 |
ToneCurvePV2012Blue | 0, 0, 255, 255 |
ToneCurvePV2012Green | 0, 0, 255, 255 |
ToneCurvePV2012Red | 0, 0, 255, 255 |
ToneCurveRed | 0, 0, 255, 255 |
Version | 7.0 |
Vibrance | +21 |
VignetteAmount | 0 |
WhiteBalance (1) | As Shot |
WhiteBalance | Auto |
Whites2012 | 0 |