Felt | Verdi |
AlreadyApplied | True |
Aperture | 6.3 |
ApertureValue | 6.3 |
ApproximateFocusDistance | 126 |
AutoLateralCA | 0 |
BitsPerSample | 8 |
Blacks2012 | 0 |
BlueHue | 0 |
BlueSaturation | 0 |
Brightness | +25 |
CameraProfile | Adobe Standard |
CFAPattern | [Green,Blue][Red,Green] |
CircleOfConfusion | 0.020 mm |
Clarity | +27 |
Clarity2012 | 0 |
ColorComponents | 3 |
ColorMode | RGB |
ColorNoiseReduction | 25 |
ColorNoiseReductionDetail | 50 |
ColorSpace | sRGB |
ColorTemperature | 5450 |
Contrast (2) | +50 |
Contrast | Normal |
Contrast2012 | 0 |
ConvertToGrayscale | False |
Copyright | B.R.L. N-1923 |
CopyrightNotice | B.R.L. N-1923 |
CreateDate (1) | 2012:06:03 14:33:53.00+02:00 |
CreateDate | 2012:06:03 14:33:53 |
CreatorTool | Ver.1.11 |
CustomRendered | Normal |
DateCreated | 2012:06:03 |
DateTimeOriginal (1) | 2012:06:03 14:33:53.00+02:00 |
DateTimeOriginal | 2012:06:03 14:33:53 |
Defringe | 0 |
DigitalZoomRatio | 1 |
DOF | 68.39 m (100.49 - 168.88 m) |
ExifImageHeight | 2592 |
ExifImageWidth | 3872 |
Exposure | +0.55 |
Exposure2012 | 0.00 |
ExposureCompensation | 0 |
ExposureMode | Auto |
ExposureProgram | Not Defined |
ExposureTime | 1/400 |
FillLight | 10 |
Flash | Off, Did not fire |
FlashFired | False |
FlashFunction | False |
FlashMode | Off |
FlashRedEyeMode | False |
FlashReturn | No return detection |
FNumber | 6.3 |
FocalLength | 250.0 mm |
FocalLength35efl | 250.0 mm (35 mm equivalent: 375.0 mm) |
FocalLengthIn35mmFormat | 375 mm |
Format | image/jpeg |
FOV | 5.5 deg |
GainControl | None |
GrainAmount | 0 |
GreenHue | 0 |
GreenSaturation | 0 |
HasCrop | False |
HasSettings | True |
HighlightRecovery | 0 |
Highlights2012 | 0 |
HueAdjustmentAqua | 0 |
HueAdjustmentBlue | 0 |
HueAdjustmentGreen | 0 |
HueAdjustmentMagenta | 0 |
HueAdjustmentOrange | 0 |
HueAdjustmentPurple | 0 |
HueAdjustmentRed | 0 |
HueAdjustmentYellow | 0 |
HyperfocalDistance | 495.27 m |
ICCProfileName | sRGB IEC61966-2.1 |
ImageHeight | 2592 |
ImageNumber | 44664 |
ImageSize | 3872x2592 |
ImageWidth | 3872 |
ISO | 100 |
Lens | 18.0-250.0 mm f/3.5-6.3 |
LensID (1) | 165 |
LensID | Sigma 18-250mm F3.5-6.3 DC OS HSM |
LensInfo | 18-250mm f/3.5-6.3 |
LensManualDistortionAmount | 0 |
LensModel | 18.0-250.0 mm f/3.5-6.3 |
LensProfileEnable | 0 |
LensProfileSetup | LensDefaults |
LightSource | Unknown |
LightValue | 14.0 |
LuminanceAdjustmentAqua | 0 |
LuminanceAdjustmentBlue | 0 |
LuminanceAdjustmentGreen | 0 |
LuminanceAdjustmentMagenta | 0 |
LuminanceAdjustmentOrange | 0 |
LuminanceAdjustmentPurple | 0 |
LuminanceAdjustmentRed | 0 |
LuminanceAdjustmentYellow | 0 |
LuminanceSmoothing | 0 |
Make | NIKON CORPORATION |
MaxApertureValue | 6.3 |
Megapixels | 10.0 |
MeteringMode | Multi-segment |
Model | NIKON D80 |
ModifyDate (1) | 2012:06:03 20:21:23+02:00 |
ModifyDate | 2012:06:03 20:21:23 |
Orientation | Horizontal (normal) |
ParametricDarks | 0 |
ParametricHighlights | 0 |
ParametricHighlightSplit | 75 |
ParametricLights | 0 |
ParametricMidtoneSplit | 50 |
ParametricShadows | 0 |
ParametricShadowSplit | 25 |
PerspectiveHorizontal | 0 |
PerspectiveRotate | 0.0 |
PerspectiveScale | 100 |
PerspectiveVertical | 0 |
PostCropVignetteAmount | 0 |
PreservedFileName | DSC_9104.NEF |
ProcessVersion | 5.7 |
ProfileDescription | sRGB IEC61966-2.1 |
Rating | 0 |
RawFileName | 2012 06 03_Kjeller fly__3481.NEF |
RedHue | 0 |
RedSaturation | 0 |
Rights | B.R.L. N-1923 |
Saturation (2) | 0 |
Saturation | Normal |
SaturationAdjustmentAqua | 0 |
SaturationAdjustmentBlue | 0 |
SaturationAdjustmentGreen | 0 |
SaturationAdjustmentMagenta | 0 |
SaturationAdjustmentOrange | 0 |
SaturationAdjustmentPurple | 0 |
SaturationAdjustmentRed | 0 |
SaturationAdjustmentYellow | 0 |
ScaleFactor35efl | 1.5 |
SceneCaptureType | Standard |
SceneType | Directly photographed |
SensingMethod | One-chip color area |
SerialNumber | 4524415 |
Shadows | 18 |
Shadows2012 | 0 |
ShadowTint | 0 |
SharpenDetail | 25 |
SharpenEdgeMasking | 0 |
SharpenRadius | +1.0 |
Sharpness (2) | 25 |
Sharpness | Hard |
ShutterSpeed | 1/400 |
ShutterSpeedValue | 1/400 |
Software | Adobe Photoshop Elements 10.0 Windows |
SplitToningBalance | 0 |
SplitToningHighlightHue | 0 |
SplitToningHighlightSaturation | 0 |
SplitToningShadowHue | 0 |
SplitToningShadowSaturation | 0 |
SubjectDistance | 126 m |
SubjectDistanceRange | Unknown |
Tint | -1 |
ToneCurve | 0, 0, 32, 22, 64, 56, 128, 128, 192, 196, 255, 255 |
ToneCurveBlue | 0, 0, 255, 255 |
ToneCurveGreen | 0, 0, 255, 255 |
ToneCurveName | Medium Contrast |
ToneCurveName2012 | Linear |
ToneCurvePV2012 | 0, 0, 255, 255 |
ToneCurvePV2012Blue | 0, 0, 255, 255 |
ToneCurvePV2012Green | 0, 0, 255, 255 |
ToneCurvePV2012Red | 0, 0, 255, 255 |
ToneCurveRed | 0, 0, 255, 255 |
URL_List | |
UserComment | (C)B.R.L.N-1923SOERUM======= |
Version | 6.7 |
Vibrance | 0 |
VignetteAmount | 0 |
WhiteBalance (2) | As Shot |
WhiteBalance | Auto |
Whites2012 | 0 |