Felt | Verdi |
AlreadyApplied | True |
Aperture | 4.5 |
ApertureValue | 4.5 |
Artist | Katherine Kelly Eriksen |
AutoLateralCA | 1 |
BitsPerSample | 8 |
Blacks2012 | 0 |
BlueHue | -55 |
BlueSaturation | 0 |
By-line | Katherine Kelly Eriksen |
CameraProfile | Embedded |
CircleOfConfusion | 0.019 mm |
Clarity2012 | +25 |
ColorComponents | 3 |
ColorNoiseReduction | 0 |
ColorTemperature | 3994 |
Contrast2012 | 0 |
ConvertToGrayscale | False |
Copyright | All rights reserved |
CopyrightNotice | All rights reserved |
CreateDate (1) | 2012:08:17 15:06:41.29 |
CreateDate | 2012:08:17 15:06:41 |
Creator | Katherine Kelly Eriksen |
CreatorTool | Adobe Photoshop Lightroom 4.1 (Windows) |
CropAngle | 5.38703 |
CropBottom | 1 |
CropConstrainToWarp | 0 |
CropHeight | 683 |
CropLeft | 0.055076 |
CropRight | 0.876078 |
CropTop | 0 |
CropUnit | pixels |
CropWidth | 1024 |
CustomRendered | Normal |
DateCreated (1) | 2012:08:17 |
DateCreated | 2012:08:17 15:06:41.29 |
DateTimeOriginal | 2012:08:17 15:06:41 |
DefringeGreenAmount | 0 |
DefringeGreenHueHi | 60 |
DefringeGreenHueLo | 40 |
DefringePurpleAmount | 0 |
DefringePurpleHueHi | 70 |
DefringePurpleHueLo | 30 |
Exposure2012 | 0.00 |
ExposureCompensation | 0 |
ExposureMode | Manual |
ExposureProgram | Manual |
ExposureTime | 1/500 |
Firmware | 1.1.0 |
Flash | Off, Did not fire |
FlashCompensation | 0 |
FNumber | 4.5 |
FocalLength | 55.0 mm |
FocalLength35efl | 55.0 mm (35 mm equivalent: 86.5 mm) |
Format | image/jpeg |
FOV | 23.5 deg |
GrainAmount | 0 |
GreenHue | +24 |
GreenSaturation | -7 |
HasCrop | True |
HasSettings | True |
Highlights2012 | 0 |
HueAdjustmentAqua | -46 |
HueAdjustmentBlue | +24 |
HueAdjustmentGreen | -5 |
HueAdjustmentMagenta | +18 |
HueAdjustmentOrange | -18 |
HueAdjustmentPurple | +23 |
HueAdjustmentRed | -8 |
HueAdjustmentYellow | 0 |
HyperfocalDistance | 35.19 m |
ImageHeight | 683 |
ImageNumber | 0 |
ImageSize | 1024x683 |
ImageWidth | 1024 |
ISO | 250 |
Lens | EF55-200mm f/4.5-5.6 II USM |
LensID (1) | 215 |
LensID | Canon EF 55-200mm f/4.5-5.6 II USM |
LensInfo | 55-200mm f/? |
LensManualDistortionAmount | 0 |
LensModel | EF55-200mm f/4.5-5.6 II USM |
LensProfileEnable | 0 |
LensProfileSetup | LensDefaults |
LensSerialNumber | 0000000000 |
LightValue | 12.0 |
LuminanceAdjustmentAqua | 0 |
LuminanceAdjustmentBlue | +21 |
LuminanceAdjustmentGreen | +25 |
LuminanceAdjustmentMagenta | 0 |
LuminanceAdjustmentOrange | 0 |
LuminanceAdjustmentPurple | 0 |
LuminanceAdjustmentRed | 0 |
LuminanceAdjustmentYellow | 0 |
LuminanceNoiseReductionContrast | 0 |
LuminanceNoiseReductionDetail | 50 |
LuminanceSmoothing | 25 |
Make | Canon |
MaxApertureValue | 4.6 |
Megapixels | 0.699 |
MeteringMode | Multi-segment |
Model | Canon EOS 60D |
ModifyDate (1) | 2012:08:17 23:44:03+02:00 |
ModifyDate | 2012:08:17 23:44:03 |
ParametricDarks | +3 |
ParametricHighlights | +13 |
ParametricHighlightSplit | 37 |
ParametricLights | +7 |
ParametricMidtoneSplit | 20 |
ParametricShadows | -38 |
ParametricShadowSplit | 10 |
PerspectiveHorizontal | 0 |
PerspectiveRotate | 0.0 |
PerspectiveScale | 100 |
PerspectiveVertical | 0 |
PostCropVignetteAmount | +7 |
PostCropVignetteFeather | 50 |
PostCropVignetteMidpoint | 50 |
PostCropVignetteRoundness | 0 |
PostCropVignetteStyle | 1 |
ProcessVersion | 6.7 |
ProfileDescription | sRGB IEC61966-2.1 |
RecommendedExposureIndex | 250 |
RedHue | +13 |
RedSaturation | +22 |
Rights | All rights reserved |
Saturation | -36 |
SaturationAdjustmentAqua | 0 |
SaturationAdjustmentBlue | +35 |
SaturationAdjustmentGreen | +35 |
SaturationAdjustmentMagenta | 0 |
SaturationAdjustmentOrange | 0 |
SaturationAdjustmentPurple | 0 |
SaturationAdjustmentRed | 0 |
SaturationAdjustmentYellow | 0 |
ScaleFactor35efl | 1.6 |
SceneCaptureType | Standard |
SensitivityType | Recommended Exposure Index |
SerialNumber | 1480918937 |
Shadows2012 | 0 |
ShadowTint | +44 |
SharpenDetail | 25 |
SharpenEdgeMasking | 0 |
SharpenRadius | +1.0 |
Sharpness | 30 |
ShutterSpeed | 1/500 |
ShutterSpeedValue | 1/500 |
Software | Adobe Photoshop Lightroom 4.1 (Windows) |
SplitToningBalance | +73 |
SplitToningHighlightHue | 56 |
SplitToningHighlightSaturation | 50 |
SplitToningShadowHue | 242 |
SplitToningShadowSaturation | 16 |
Tint | +19 |
ToneCurveName2012 | Linear |
ToneCurvePV2012 | 0, 0, 255, 255 |
ToneCurvePV2012Blue | 0, 0, 255, 255 |
ToneCurvePV2012Green | 0, 0, 255, 255 |
ToneCurvePV2012Red | 0, 0, 255, 255 |
Version | 7.1 |
Vibrance | -15 |
VignetteAmount | -24 |
VignetteMidpoint | 1 |
WhiteBalance (1) | Custom |
WhiteBalance | Auto |
Whites2012 | 0 |