Felt | Verdi |
AlreadyApplied | True |
Aperture | 2.8 |
ApertureValue | 2.8 |
ApproximateFocusDistance | 4294967295 |
BitsPerSample (1) | 16 16 16 |
BitsPerSample | 8 |
BlueHue | 0 |
BlueSaturation | 0 |
Brightness | +43 |
CameraProfile | Adobe Standard |
ChromaticAberrationB | 0 |
ChromaticAberrationR | 0 |
CircleOfConfusion | 0.019 mm |
Clarity | +56 |
ColorComponents | 3 |
ColorMode | RGB |
ColorNoiseReduction | 100 |
ColorNoiseReductionDetail | 63 |
ColorSpace | Uncalibrated |
ColorTemperature | 5400 |
Contrast | +41 |
ConvertToGrayscale | False |
CreateDate (1) | 2012:11:26 00:00:54.80 |
CreateDate | 2012:11:26 00:00:54 |
CreatorTool | Adobe Photoshop Lightroom 3.6 (Windows) |
CustomRendered | Normal |
DateCreated (1) | 2012:11:26 |
DateCreated | 2012:11:26 00:00:54.008 |
DateTimeOriginal | 2012:11:26 00:00:54 |
Defringe | 0 |
DOF | inf (5.40 m - inf) |
ExifImageHeight | 3148 |
ExifImageWidth | 5300 |
Exposure | +0.05 |
ExposureCompensation | 0 |
ExposureMode | Manual |
ExposureProgram | Manual |
ExposureTime | 4 |
FillLight | 15 |
Firmware | 1.0.9 |
Flash | Off, Did not fire |
FlashCompensation | 0 |
FNumber | 2.8 |
FocalLength | 17.0 mm |
FocalLength35efl | 17.0 mm (35 mm equivalent: 26.7 mm) |
Format | image/jpeg |
FOV | 67.9 deg |
GrainAmount | 0 |
GreenHue | 0 |
GreenSaturation | 0 |
HasCrop | False |
HasSettings | True |
HighlightRecovery | 0 |
HueAdjustmentAqua | 0 |
HueAdjustmentBlue | 0 |
HueAdjustmentGreen | 0 |
HueAdjustmentMagenta | 0 |
HueAdjustmentOrange | 0 |
HueAdjustmentPurple | 0 |
HueAdjustmentRed | 0 |
HueAdjustmentYellow | 0 |
HyperfocalDistance | 5.40 m |
ICCProfileName | ProPhoto RGB |
ImageHeight (1) | 3456 |
ImageHeight | 3148 |
ImageNumber | 0 |
ImageSize | 5300x3148 |
ImageWidth (1) | 5184 |
ImageWidth | 5300 |
ISO | 1600 |
Lens | EF16-35mm f/2.8L II USM |
LensID (1) | 246 |
LensID | Canon EF 16-35mm f/2.8L II USM |
LensInfo | 16-35mm f/? |
LensManualDistortionAmount | 0 |
LensModel | EF16-35mm f/2.8L II USM |
LensProfileChromaticAberrationScale | 100 |
LensProfileDistortionScale | 100 |
LensProfileEnable | 1 |
LensProfileFilename | Canon EOS 5D Mark II (Canon EF 16-35mm f2.8 L II USM) - RAW.lcp |
LensProfileName | Adobe (Canon EF 16-35mm f/2.8 L II USM) |
LensProfileSetup | LensDefaults |
LensProfileVignettingScale | 100 |
LightValue | -3.0 |
LuminanceAdjustmentAqua | 0 |
LuminanceAdjustmentBlue | 0 |
LuminanceAdjustmentGreen | 0 |
LuminanceAdjustmentMagenta | 0 |
LuminanceAdjustmentOrange | 0 |
LuminanceAdjustmentPurple | 0 |
LuminanceAdjustmentRed | 0 |
LuminanceAdjustmentYellow | 0 |
LuminanceNoiseReductionContrast | 49 |
LuminanceNoiseReductionDetail | 99 |
LuminanceSmoothing | 59 |
Make | Canon |
MaxApertureValue | 2.8 |
Megapixels | 16.7 |
MeteringMode | Spot |
Model | Canon EOS 550D |
ModifyDate (1) | 2012:11:26 02:09:30+01:00 |
ModifyDate | 2012:11:26 02:09:30 |
Orientation | Horizontal (normal) |
PaintCorrectionActive | true |
PaintCorrectionAmount | 1.000000 |
PaintCorrectionBrightness | 0.000000 |
PaintCorrectionClarity | 0.000000 |
PaintCorrectionContrast | 0.000000 |
PaintCorrectionExposure | -0.080460 |
PaintCorrectionHue | 240.000000 |
PaintCorrectionMaskCenterWeight | 0.162140 |
PaintCorrectionMaskFlow | 1.000000 |
PaintCorrectionMaskRadius | 0.047423 |
PaintCorrectionMaskValue | 1.000000 |
PaintCorrectionMaskWhat | Mask/Paint |
PaintCorrectionSaturation | 0.000000 |
PaintCorrectionSharpness | 0.000000 |
PaintCorrectionWhat | Correction |
ParametricDarks | -7 |
ParametricHighlights | +56 |
ParametricHighlightSplit | 75 |
ParametricLights | 0 |
ParametricMidtoneSplit | 50 |
ParametricShadows | -12 |
ParametricShadowSplit | 25 |
PerspectiveHorizontal | 0 |
PerspectiveRotate | 0.0 |
PerspectiveScale | 100 |
PerspectiveVertical | 0 |
PhotometricInterpretation | RGB |
PlanarConfiguration | Chunky |
PostCropVignetteAmount | 0 |
ProcessVersion | 5.7 |
ProfileDescription | ProPhoto RGB |
RedHue | 0 |
RedSaturation | 0 |
Saturation | 0 |
SaturationAdjustmentAqua | 0 |
SaturationAdjustmentBlue | 0 |
SaturationAdjustmentGreen | +16 |
SaturationAdjustmentMagenta | +2 |
SaturationAdjustmentOrange | 0 |
SaturationAdjustmentPurple | +7 |
SaturationAdjustmentRed | 0 |
SaturationAdjustmentYellow | -2 |
ScaleFactor35efl | 1.6 |
SceneCaptureType | Standard |
SerialNumber | 1333707297 |
Shadows | 6 |
ShadowTint | 0 |
SharpenDetail | 40 |
SharpenEdgeMasking | 72 |
SharpenRadius | +1.5 |
Sharpness | 100 |
ShutterSpeed | 4 |
ShutterSpeedValue | 4 |
Software | Adobe Photoshop CS5.1 Windows |
SplitToningBalance | 0 |
SplitToningHighlightHue | 0 |
SplitToningHighlightSaturation | 0 |
SplitToningShadowHue | 0 |
SplitToningShadowSaturation | 0 |
SubjectDistance | 4294967295 m |
Tint | +18 |
ToneCurve | 0, 0, 32, 22, 64, 56, 128, 128, 192, 196, 255, 255 |
ToneCurveName | Medium Contrast |
URL_List | |
Version | 6.6 |
Vibrance | 0 |
VignetteAmount | 0 |
WhiteBalance (1) | As Shot |
WhiteBalance | Auto |