Felt | Verdi |
AlreadyApplied | True |
Aperture | 5.6 |
ApertureValue | 5.6 |
Artist | MelvinAasum |
AutoLateralCA | 1 |
BitsPerSample | 8 |
Blacks2012 | 0 |
BlueHue | 0 |
BlueSaturation | 0 |
By-line | MelvinAasum |
CameraProfile | Adobe Standard |
CircleOfConfusion | 0.020 mm |
Clarity2012 | +47 |
ColorComponents | 3 |
ColorMode | RGB |
ColorNoiseReduction | 25 |
ColorNoiseReductionDetail | 50 |
ColorSpace | sRGB |
ColorTemperature | 5700 |
Contrast | High |
Contrast2012 | -25 |
ConvertToGrayscale | False |
CreateDate | 2012:12:10 12:57:00 |
Creator | MelvinAasum |
CreatorTool | Adobe Photoshop Lightroom 4.3 (Windows) |
CropAngle | 0 |
CropBottom | 0.753987 |
CropConstrainToWarp | 0 |
CropHeight | 2461 |
CropLeft | 0.057316 |
CropRight | 0.918552 |
CropTop | 0 |
CropUnit | pixels |
CropWidth | 4244 |
CustomRendered | Normal |
DateCreated | 2012:12:10 |
DateTimeOriginal (1) | 2012:12:10 12:57+01:00 |
DateTimeOriginal | 2012:12:10 12:57:00 |
DefringeGreenAmount | 0 |
DefringeGreenHueHi | 60 |
DefringeGreenHueLo | 40 |
DefringePurpleAmount | 9 |
DefringePurpleHueHi | 93 |
DefringePurpleHueLo | 30 |
ExifImageHeight | 696 |
ExifImageWidth | 1200 |
Exposure2012 | +1.35 |
ExposureCompensation | +0.3 |
ExposureMode | Manual |
ExposureProgram | Not Defined |
ExposureTime | 1/1000 |
Flash | Off, Did not fire |
FlashFired | False |
FlashFunction | False |
FlashMode | Off |
FlashRedEyeMode | False |
FlashReturn | No return detection |
FNumber | 5.6 |
FocalLength | 155.0 mm |
FocalLength35efl | 155.0 mm (35 mm equivalent: 232.0 mm) |
FocalLengthIn35mmFormat | 232 mm |
Format | image/jpeg |
FOV | 8.9 deg |
GrainAmount | 0 |
GreenHue | 0 |
GreenSaturation | 0 |
HasCrop | True |
HasSettings | True |
Highlights2012 | 0 |
HueAdjustmentAqua | 0 |
HueAdjustmentBlue | 0 |
HueAdjustmentGreen | 0 |
HueAdjustmentMagenta | 0 |
HueAdjustmentOrange | 0 |
HueAdjustmentPurple | 0 |
HueAdjustmentRed | 0 |
HueAdjustmentYellow | 0 |
HyperfocalDistance | 213.72 m |
ICCProfileName | sRGB IEC61966-2.1 |
ImageHeight | 696 |
ImageSize | 1200x696 |
ImageWidth | 1200 |
ISO | 125 |
Lens | TAMRON AF 18-250mm F3.5-6.3 Di II LD Aspherical [IF] MACRO |
LensID (1) | 7 238 |
LensID | Tamron AF 18-250mm F3.5-6.3 Di II LD Aspherical [IF] Macro |
LensInfo | 18-250mm f/3.5-6.3 |
LensManualDistortionAmount | 0 |
LensModel | TAMRON AF 18-250mm F3.5-6.3 Di II LD Aspherical [IF] MACRO |
LensProfileEnable | 0 |
LensProfileSetup | LensDefaults |
LightValue | 14.6 |
LuminanceAdjustmentAqua | 0 |
LuminanceAdjustmentBlue | 0 |
LuminanceAdjustmentGreen | 0 |
LuminanceAdjustmentMagenta | 0 |
LuminanceAdjustmentOrange | 0 |
LuminanceAdjustmentPurple | 0 |
LuminanceAdjustmentRed | 0 |
LuminanceAdjustmentYellow | 0 |
LuminanceSmoothing | 0 |
Make | PENTAX |
Megapixels | 0.835 |
MeteringMode | Multi-segment |
Model | PENTAX K-5 |
ModifyDate (1) | 2012:12:22 15:25:12+01:00 |
ModifyDate | 2012:12:22 15:25:12 |
ParametricDarks | 0 |
ParametricHighlights | 0 |
ParametricHighlightSplit | 75 |
ParametricLights | 0 |
ParametricMidtoneSplit | 50 |
ParametricShadows | 0 |
ParametricShadowSplit | 25 |
PerspectiveHorizontal | 0 |
PerspectiveRotate | 0.0 |
PerspectiveScale | 100 |
PerspectiveVertical | 0 |
PostCropVignetteAmount | 0 |
ProcessVersion | 6.7 |
RedHue | 0 |
RedSaturation | 0 |
RelatedImageHeight | 696 |
RelatedImageWidth | 1200 |
Saturation (1) | 0 |
Saturation | Normal |
SaturationAdjustmentAqua | 0 |
SaturationAdjustmentBlue | 0 |
SaturationAdjustmentGreen | 0 |
SaturationAdjustmentMagenta | 0 |
SaturationAdjustmentOrange | 0 |
SaturationAdjustmentPurple | 0 |
SaturationAdjustmentRed | 0 |
SaturationAdjustmentYellow | 0 |
ScaleFactor35efl | 1.5 |
SceneCaptureType | Standard |
SensingMethod | One-chip color area |
Shadows2012 | +19 |
ShadowTint | 0 |
SharpenDetail | 25 |
SharpenEdgeMasking | 0 |
SharpenRadius | +1.0 |
Sharpness (1) | 25 |
Sharpness | Hard |
ShutterSpeed | 1/1000 |
ShutterSpeedValue | 1/1000 |
Software | Adobe Photoshop Elements 9.0 Windows |
SplitToningBalance | 0 |
SplitToningHighlightHue | 0 |
SplitToningHighlightSaturation | 0 |
SplitToningShadowHue | 0 |
SplitToningShadowSaturation | 0 |
SubjectDistanceRange | Distant |
Tint | +21 |
ToneCurveName2012 | Linear |
ToneCurvePV2012 | 0, 0, 255, 255 |
ToneCurvePV2012Blue | 0, 0, 255, 255 |
ToneCurvePV2012Green | 0, 0, 255, 255 |
ToneCurvePV2012Red | 0, 0, 255, 255 |
URL_List | |
Version | 7.3 |
Vibrance | 0 |
VignetteAmount | 0 |
WhiteBalance (1) | As Shot |
WhiteBalance | Auto |
Whites2012 | +23 |