Felt | Verdi |
AlreadyApplied | True |
Aperture | 14.0 |
ApertureValue | 14.0 |
BitsPerSample | 8 |
BlueHue | 0 |
BlueSaturation | 0 |
Brightness | +50 |
CameraProfile | Adobe Standard |
ChromaticAberrationB | 0 |
ChromaticAberrationR | 0 |
CircleOfConfusion | 0.030 mm |
Clarity | +37 |
ColorComponents | 3 |
ColorMode | RGB |
ColorNoiseReduction | 25 |
ColorNoiseReductionDetail | 50 |
ColorSpace | Uncalibrated |
ColorTemperature | 8600 |
Contrast | +25 |
ConvertToGrayscale | False |
CreateDate (1) | 2013:05:10 21:48:22+02:00 |
CreateDate | 2013:05:10 21:48:22 |
CropAngle | -0.299975 |
CropBottom | 0.939853 |
CropLeft | 0.025242 |
CropRight | 0.98068 |
CropTop | 0.155228 |
CustomRendered | Normal |
DateCreated (1) | 2013:05:10 |
DateCreated | 2013:05:10 21:48:22 |
DateTimeOriginal | 2013:05:10 21:48:22 |
Defringe | 0 |
ExifImageHeight | 2307 |
ExifImageWidth | 4161 |
Exposure | 0.00 |
ExposureCompensation | 0 |
ExposureMode | Auto |
ExposureProgram | Shutter speed priority AE |
ExposureTime | 0.5 |
FillLight | 0 |
Firmware | 1.1.1 |
Flash | Off, Did not fire |
FlashCompensation | 0 |
FNumber | 14.0 |
FocalLength | 24.0 mm |
FocalLength35efl | 24.0 mm (35 mm equivalent: 24.0 mm) |
Format | image/jpeg |
FOV | 73.6 deg |
GradientBasedCorrActive | true |
GradientBasedCorrAmount | 1.000000 |
GradientBasedCorrBrightness | 0.230000 |
GradientBasedCorrClarity | 0.900000 |
GradientBasedCorrContrast | 1.000000 |
GradientBasedCorrExposure (1) | -0.425000 |
GradientBasedCorrExposure (2) | 0.175000 |
GradientBasedCorrExposure | -0.150000 |
GradientBasedCorrHue | 0.000000 |
GradientBasedCorrMaskFullX (1) | 0.001730 |
GradientBasedCorrMaskFullX (2) | 0.432746 |
GradientBasedCorrMaskFullX | 0.371025 |
GradientBasedCorrMaskFullY (1) | 0.525776 |
GradientBasedCorrMaskFullY (2) | 0.986555 |
GradientBasedCorrMaskFullY | 0.006577 |
GradientBasedCorrMaskValue | 1.000000 |
GradientBasedCorrMaskWhat | Mask/Gradient |
GradientBasedCorrMaskZeroX (1) | 0.020766 |
GradientBasedCorrMaskZeroX (2) | 0.428326 |
GradientBasedCorrMaskZeroX | 0.375157 |
GradientBasedCorrMaskZeroY (1) | 1.161330 |
GradientBasedCorrMaskZeroY (2) | 0.041444 |
GradientBasedCorrMaskZeroY | 0.548070 |
GradientBasedCorrSaturation (1) | -1.000000 |
GradientBasedCorrSaturation (3) | -0.270000 |
GradientBasedCorrSaturation (5) | -0.480000 |
GradientBasedCorrSaturation | 0.000000 |
GradientBasedCorrSharpness | 0.770000 |
GradientBasedCorrWhat | Correction |
GrainAmount | 0 |
GreenHue | 0 |
GreenSaturation | 0 |
HasCrop | True |
HasSettings | True |
HighlightRecovery | 45 |
HueAdjustmentAqua | 0 |
HueAdjustmentBlue | 0 |
HueAdjustmentGreen | 0 |
HueAdjustmentMagenta | 0 |
HueAdjustmentOrange | 0 |
HueAdjustmentPurple | 0 |
HueAdjustmentRed | 0 |
HueAdjustmentYellow | 0 |
HyperfocalDistance | 1.37 m |
ICCProfileName | Adobe RGB (1998) |
ImageHeight | 2307 |
ImageNumber | 5 |
ImageSize | 4161x2307 |
ImageWidth | 4161 |
ISO | 100 |
Lens | 24.0-70.0 mm |
LensID (1) | 161 |
LensID | Sigma 24-70mm f/2.8 EX or Tokina AT-X 24-70mm f/2.8 PRO FX (IF) |
LensInfo | 24-70mm f/? |
LightValue | 8.6 |
LuminanceAdjustmentAqua | 0 |
LuminanceAdjustmentBlue | +3 |
LuminanceAdjustmentGreen | 0 |
LuminanceAdjustmentMagenta | 0 |
LuminanceAdjustmentOrange | 0 |
LuminanceAdjustmentPurple | 0 |
LuminanceAdjustmentRed | 0 |
LuminanceAdjustmentYellow | 0 |
LuminanceSmoothing | 0 |
Make | Canon |
MaxApertureValue | 3.0 |
Megapixels | 9.6 |
MeteringMode | Partial |
Model | Canon EOS 5D |
ModifyDate (1) | 2013:06:06 23:48:04+02:00 |
ModifyDate | 2013:06:06 23:48:04 |
Orientation | Horizontal (normal) |
PaintCorrectionActive | true |
PaintCorrectionAmount | 1.000000 |
PaintCorrectionBrightness | 0.230000 |
PaintCorrectionClarity | 0.900000 |
PaintCorrectionContrast | 1.000000 |
PaintCorrectionExposure | 0.175000 |
PaintCorrectionHue | 0.000000 |
PaintCorrectionMaskCenterWeight | 0.000000 |
PaintCorrectionMaskFlow | 0.888889 |
PaintCorrectionMaskRadius (3) | 0.046328 |
PaintCorrectionMaskRadius | 0.020840 |
PaintCorrectionMaskValue | 1.000000 |
PaintCorrectionMaskWhat | Mask/Paint |
PaintCorrectionSaturation (1) | -0.270000 |
PaintCorrectionSaturation | 0.000000 |
PaintCorrectionSharpness | 0.770000 |
PaintCorrectionWhat | Correction |
ParametricDarks | -19 |
ParametricHighlights | +78 |
ParametricHighlightSplit | 75 |
ParametricLights | +43 |
ParametricMidtoneSplit | 50 |
ParametricShadows | +8 |
ParametricShadowSplit | 25 |
PostCropVignetteAmount | 0 |
ProcessVersion | 5.7 |
ProfileDescription | Adobe RGB (1998) |
Rating | 0 |
RawFileName | IMG_3244.CR2 |
RedHue | 0 |
RedSaturation | 0 |
Saturation | 0 |
SaturationAdjustmentAqua | 0 |
SaturationAdjustmentBlue | 0 |
SaturationAdjustmentGreen | 0 |
SaturationAdjustmentMagenta | 0 |
SaturationAdjustmentOrange | 0 |
SaturationAdjustmentPurple | 0 |
SaturationAdjustmentRed | 0 |
SaturationAdjustmentYellow | 0 |
ScaleFactor35efl | 1.0 |
SceneCaptureType | Standard |
SerialNumber | 1430906675 |
Shadows | 5 |
ShadowTint | 0 |
SharpenDetail | 25 |
SharpenEdgeMasking | 0 |
SharpenRadius | +1.0 |
Sharpness | 25 |
ShutterSpeed | 0.5 |
ShutterSpeedValue | 0.5 |
SidecarForExtension | CR2 |
Software | Adobe Photoshop CS5 Windows |
SplitToningBalance | 0 |
SplitToningHighlightHue | 0 |
SplitToningHighlightSaturation | 0 |
SplitToningShadowHue | 0 |
SplitToningShadowSaturation | 0 |
Tint | +7 |
ToneCurve | 0, 0, 32, 22, 64, 56, 128, 128, 192, 196, 255, 255 |
ToneCurveName | Medium Contrast |
URL_List | |
Version | 6.0 |
Vibrance | 0 |
VignetteAmount | 0 |
WhiteBalance (1) | Custom |
WhiteBalance | Auto |