Felt | Verdi |
AlreadyApplied | True |
Aperture | 10.0 |
ApertureValue | 10.0 |
ApproximateFocusDistance | 4294967295 |
Artist | Ragnar Brenden |
AutoLateralCA | 0 |
BitsPerSample | 8 |
Blacks2012 | -16 |
BlueHue | 0 |
BlueSaturation | 0 |
By-line | Ragnar Brenden |
CameraProfile | ACR 4.4 |
CircleOfConfusion | 0.019 mm |
Clarity2012 | +72 |
ColorComponents | 3 |
ColorNoiseReduction | 25 |
ColorNoiseReductionDetail | 50 |
ColorTemperature | 4700 |
Contrast2012 | +28 |
ConvertToGrayscale | True |
Copyright | Ragnar Brenden |
CopyrightNotice | Ragnar Brenden |
CreateDate (1) | 2013:06:09 18:28:20.81 |
CreateDate | 2013:06:09 18:28:20 |
Creator | Ragnar Brenden |
CreatorTool | Adobe Photoshop Lightroom 4.3 (Windows) |
CropAngle | 0 |
CropBottom | 0.751295 |
CropConstrainToWarp | 0 |
CropHeight | 1564 |
CropLeft | 0.12608 |
CropRight | 0.578584 |
CropTop | 0.298791 |
CropUnit | pixels |
CropWidth | 2346 |
CustomRendered | Normal |
DateCreated (1) | 2013:06:09 |
DateCreated | 2013:06:09 18:28:20.81 |
DateTimeOriginal | 2013:06:09 18:28:20 |
DOF | inf (52.26 m - inf) |
Exposure2012 | +0.20 |
ExposureCompensation | 0 |
ExposureMode | Auto |
ExposureProgram | Shutter speed priority AE |
ExposureTime | 1/30 |
Firmware | 2.0.0 |
Flash | Off, Did not fire |
FlashCompensation | 0 |
FNumber | 10.0 |
FocalLength | 100.0 mm |
FocalLength35efl | 100.0 mm (35 mm equivalent: 157.0 mm) |
Format | image/jpeg |
FOV | 13.1 deg |
GrainAmount | 0 |
GrayMixerAqua | -18 |
GrayMixerBlue | +8 |
GrayMixerGreen | -25 |
GrayMixerMagenta | +4 |
GrayMixerOrange | +12 |
GrayMixerPurple | +14 |
GrayMixerRed | +9 |
GrayMixerYellow | -21 |
GreenHue | 0 |
GreenSaturation | 0 |
HasCrop | True |
HasSettings | True |
Highlights2012 | -75 |
HyperfocalDistance | 52.26 m |
ImageHeight | 1564 |
ImageNumber | 0 |
ImageSize | 2346x1564 |
ImageWidth | 2346 |
ISO | 200 |
Lens | EF100mm f/2.8L Macro IS USM |
LensID (1) | 254 |
LensID | Canon EF 100mm f/2.8L Macro IS USM |
LensInfo | 100mm f/? |
LensManualDistortionAmount | 0 |
LensModel | EF100mm f/2.8L Macro IS USM |
LensProfileEnable | 0 |
LensProfileSetup | LensDefaults |
LightValue | 10.6 |
LuminanceNoiseReductionContrast | 0 |
LuminanceNoiseReductionDetail | 50 |
LuminanceSmoothing | 12 |
Make | Canon |
MaxApertureValue | 2.8 |
Megapixels | 3.7 |
MeteringMode | Multi-segment |
Model | Canon EOS 7D |
ModifyDate (1) | 2013:07:02 21:35:18+02:00 |
ModifyDate | 2013:07:02 21:35:18 |
ParametricDarks | -9 |
ParametricHighlights | +18 |
ParametricHighlightSplit | 75 |
ParametricLights | +26 |
ParametricMidtoneSplit | 50 |
ParametricShadows | 0 |
ParametricShadowSplit | 25 |
PerspectiveHorizontal | 0 |
PerspectiveRotate | 0.0 |
PerspectiveScale | 100 |
PerspectiveVertical | 0 |
PostCropVignetteAmount | -16 |
PostCropVignetteFeather | 61 |
PostCropVignetteHighlightContrast | 0 |
PostCropVignetteMidpoint | 47 |
PostCropVignetteRoundness | 0 |
PostCropVignetteStyle | 1 |
ProcessVersion | 6.7 |
ProfileDescription | sRGB IEC61966-2.1 |
Rating | 5 |
RecommendedExposureIndex | 200 |
RedHue | 0 |
RedSaturation | 0 |
Rights | Ragnar Brenden |
ScaleFactor35efl | 1.6 |
SceneCaptureType | Standard |
SensitivityType | Recommended Exposure Index |
SerialNumber | 3081216807 |
Shadows2012 | +76 |
ShadowTint | 0 |
SharpenDetail | 23 |
SharpenEdgeMasking | 61 |
SharpenRadius | +0.7 |
Sharpness | 49 |
ShutterSpeed | 1/30 |
ShutterSpeedValue | 1/30 |
Software | Adobe Photoshop Lightroom 4.3 (Windows) |
SplitToningBalance | -12 |
SplitToningHighlightHue | 48 |
SplitToningHighlightSaturation | 24 |
SplitToningShadowHue | 0 |
SplitToningShadowSaturation | 0 |
Tint | +41 |
ToneCurveName2012 | Linear |
ToneCurvePV2012 | 0, 0, 255, 255 |
ToneCurvePV2012Blue | 0, 0, 255, 255 |
ToneCurvePV2012Green | 0, 0, 255, 255 |
ToneCurvePV2012Red | 0, 0, 255, 255 |
Version | 7.3 |
VignetteAmount | -13 |
VignetteMidpoint | 30 |
WhiteBalance (1) | As Shot |
WhiteBalance | Auto |
Whites2012 | +17 |